BEGIN:VCALENDAR
VERSION:2.0
PRODID:-//One Stockport - ECPv6.15.18//NONSGML v1.0//EN
CALSCALE:GREGORIAN
METHOD:PUBLISH
X-ORIGINAL-URL:https://www.onestockport.co.uk
X-WR-CALDESC:Events for One Stockport
REFRESH-INTERVAL;VALUE=DURATION:PT1H
X-Robots-Tag:noindex
X-PUBLISHED-TTL:PT1H
BEGIN:VTIMEZONE
TZID:Europe/London
BEGIN:DAYLIGHT
TZOFFSETFROM:+0000
TZOFFSETTO:+0100
TZNAME:BST
DTSTART:20220327T010000
END:DAYLIGHT
BEGIN:STANDARD
TZOFFSETFROM:+0100
TZOFFSETTO:+0000
TZNAME:GMT
DTSTART:20221030T010000
END:STANDARD
BEGIN:DAYLIGHT
TZOFFSETFROM:+0000
TZOFFSETTO:+0100
TZNAME:BST
DTSTART:20230326T010000
END:DAYLIGHT
BEGIN:STANDARD
TZOFFSETFROM:+0100
TZOFFSETTO:+0000
TZNAME:GMT
DTSTART:20231029T010000
END:STANDARD
BEGIN:DAYLIGHT
TZOFFSETFROM:+0000
TZOFFSETTO:+0100
TZNAME:BST
DTSTART:20240331T010000
END:DAYLIGHT
BEGIN:STANDARD
TZOFFSETFROM:+0100
TZOFFSETTO:+0000
TZNAME:GMT
DTSTART:20241027T010000
END:STANDARD
BEGIN:DAYLIGHT
TZOFFSETFROM:+0000
TZOFFSETTO:+0100
TZNAME:BST
DTSTART:20250330T010000
END:DAYLIGHT
BEGIN:STANDARD
TZOFFSETFROM:+0100
TZOFFSETTO:+0000
TZNAME:GMT
DTSTART:20251026T010000
END:STANDARD
END:VTIMEZONE
BEGIN:VEVENT
DTSTART;TZID=Europe/London:20240803T140000
DTEND;TZID=Europe/London:20240803T153000
DTSTAMP:20260424T193801
CREATED:20240719T115606Z
LAST-MODIFIED:20240719T123308Z
UID:10007420-1722693600-1722699000@www.onestockport.co.uk
SUMMARY:Draw the Dancer with Artist\, Bill Eley
DESCRIPTION:Join Manchester Academy of Fine Art (MAFA) Member\, Bill Eley\, for an afternoon of honing your drawing skills. This session offers the opportunity for you to practice drawing a real dancer in elegant dance poses. \nPlease bring your own dry materials ie: pencils\, pens\, charcoal\, pastels and paper \nSuggested Donation £3 cash \nFREE Entry \nAge 16+ \nBooking essential \nTo book your place please call: 0161 474 4453 or email: stockport.artgallery@stockport.gov.uk \n 
URL:https://www.onestockport.co.uk/townofcultureevent/draw-the-dancer-with-artist-bill-eley/
LOCATION:Stockport War Memorial Art Gallery  Wellington Road South Stockport SK3 8AB
CATEGORIES:Makes
ATTACH;FMTTYPE=image/png:https://www.onestockport.co.uk/wp-content/uploads/2024/07/Draw-the-Dancer.png
ORGANIZER;CN="Stockport War Memorial Art Gallery":MAILTO:stockport.artgallery@stockport.gov.uk
END:VEVENT
BEGIN:VEVENT
DTSTART;TZID=Europe/London:20231210T140000
DTEND;TZID=Europe/London:20231210T150000
DTSTAMP:20260424T193801
CREATED:20231121T140740Z
LAST-MODIFIED:20231121T141058Z
UID:10003998-1702216800-1702220400@www.onestockport.co.uk
SUMMARY:The Scottish Colourists by Julia Marwood
DESCRIPTION:Julia Marwood will present an illustrated talk about the Scottish Colourists\, the final talk in her series about Scottish art movements. The Scottish Colourists were one of the most distinctive groups in twentieth century British art and Julia’s talk will serve up a taste of their joyful and uplifting work. \nFree event. \nDisability friendly venue. \nThis event is organised by Stockport Art Guild. \ncontact@stockportartguild.com \nstockportartguild.com \n****** Book now to reserve a spot ******
URL:https://www.onestockport.co.uk/townofcultureevent/free-art-talk-by-julia-marwood/
LOCATION:Stockport War Memorial Art Gallery  Wellington Road South Stockport SK3 8AB
CATEGORIES:Makes
ATTACH;FMTTYPE=image/png:https://www.onestockport.co.uk/wp-content/uploads/2023/11/Instag_Scottish_Colourists.png
END:VEVENT
BEGIN:VEVENT
DTSTART;TZID=Europe/London:20231209T110000
DTEND;TZID=Europe/London:20231209T150000
DTSTAMP:20260424T193801
CREATED:20231020T121735Z
LAST-MODIFIED:20231205T141330Z
UID:10000489-1702119600-1702134000@www.onestockport.co.uk
SUMMARY:Festive Artisan Market and Fun Day
DESCRIPTION:Pop-up Festive Artisan Market and Fun Day \nSet in Stockport’s iconic art gallery\, 40+ local hand-picked makers and traders will have everything you need for a great Christmas\, including unique handmade gifts\, decorations\, foodie treats and more. \nThis free event will also include entertainment for the kids and face painting.
URL:https://www.onestockport.co.uk/townofcultureevent/festive-artisan-market-and-fun-day/
LOCATION:Stockport War Memorial Art Gallery  Wellington Road South Stockport SK3 8AB
CATEGORIES:Makes,Tastes
ATTACH;FMTTYPE=image/jpeg:https://www.onestockport.co.uk/wp-content/uploads/2023/10/worker-bee-markets.jpg
END:VEVENT
BEGIN:VEVENT
DTSTART;TZID=Europe/London:20231126T140000
DTEND;TZID=Europe/London:20231126T150000
DTSTAMP:20260424T193801
CREATED:20231121T141909Z
LAST-MODIFIED:20231121T141909Z
UID:10004000-1701007200-1701010800@www.onestockport.co.uk
SUMMARY:History of Stockport Art Guild by Peter Davis MAFA CBPP
DESCRIPTION:Join us for an engaging in-person event on 26th November 2023 at 2:00 PM\, as Peter Davis MAFA CBPP takes you through the captivating history. \nPeter Davis\, Guild member and writer of StockpART\, the book that celebrated our 2019 Centenary\, will be giving a talk on the history of Stockport Art Guild. He’ll be touching on some fascinating stories in the Guild’s history\, from our formation during the Arts and Crafts Movement right through to the present day. \nThe StockpART book will be on sale and can be purchased on the day. \n  \n****** Book now to reserve a spot ******
URL:https://www.onestockport.co.uk/townofcultureevent/history-of-stockport-art-guild-by-peter-davis-mafa-cbpp/
LOCATION:Stockport War Memorial Art Gallery  Wellington Road South Stockport SK3 8AB
CATEGORIES:Makes
ATTACH;FMTTYPE=image/jpeg:https://www.onestockport.co.uk/wp-content/uploads/2023/11/peter-dvies.jpg
END:VEVENT
BEGIN:VEVENT
DTSTART;TZID=Europe/London:20231124T190000
DTEND;TZID=Europe/London:20231124T213000
DTSTAMP:20260424T193801
CREATED:20231024T112758Z
LAST-MODIFIED:20231122T095117Z
UID:10000490-1700852400-1700861400@www.onestockport.co.uk
SUMMARY:In conversation with 10cc’s Graham Gouldman
DESCRIPTION:As part of Stockport’s programme of activities to celebrate the town being selected as Greater Manchester’s Town of Culture\, Stockport Council are delighted to welcome music legend Graham Gouldman to take centre stage as we embark on a trip to revel in Stockport’s musical heritage. \nGraham Gouldman is one of Britain’s most successful songwriters and was one quarter of the Manchester band 10cc\, who ruled the airwaves in the 1970s. He was also one of the first financial investors in Stockport’s Strawberry Recording Studios in 1968 and remained a partner and director in the Studio until the 1980s\, helping to cement Stockport’s place as one of the key cultural centres in the country. \nTickets include one free drink at the bar before the event.
URL:https://www.onestockport.co.uk/townofcultureevent/in-conversation-with-10ccs-graham-gouldman/
LOCATION:Stockport War Memorial Art Gallery  Wellington Road South Stockport SK3 8AB
CATEGORIES:Sounds
ATTACH;FMTTYPE=image/png:https://www.onestockport.co.uk/wp-content/uploads/2023/10/Screenshot-2023-11-22-at-09.50.36.png
END:VEVENT
BEGIN:VEVENT
DTSTART;TZID=Europe/London:20231109T140000
DTEND;TZID=Europe/London:20231109T160000
DTSTAMP:20260424T193801
CREATED:20231010T125807Z
LAST-MODIFIED:20231010T125807Z
UID:10000464-1699538400-1699545600@www.onestockport.co.uk
SUMMARY:Recycled paper workshop with Mo Fox
DESCRIPTION:Join us for a FREE workshop!\nDesign and Make – You’ll be using recycled card\, paper and other materials to design and make a unique piece of art to take away with you. \nAbout Mo Fox – Mo is a workshop leader with over thirty years of teaching experience. In the past she has made and sold her own work through art and craft galleries throughout the UK. \nMaterials Provided\nAged 16+ \nBook Now\nCall 0161 474 4453 or email:\nstockport.artgallery@stockport.gov.uk
URL:https://www.onestockport.co.uk/townofcultureevent/recycled-paper-workshop-with-mo-fox/
LOCATION:Stockport War Memorial Art Gallery  Wellington Road South Stockport SK3 8AB
CATEGORIES:Makes
ATTACH;FMTTYPE=image/png:https://www.onestockport.co.uk/wp-content/uploads/2023/10/Recycled-Paper-Workshop-with-Mo-Fox-1.png
END:VEVENT
BEGIN:VEVENT
DTSTART;TZID=Europe/London:20231030T080000
DTEND;TZID=Europe/London:20231118T170000
DTSTAMP:20260424T193801
CREATED:20231030T123842Z
LAST-MODIFIED:20231030T123842Z
UID:10002918-1698652800-1700326800@www.onestockport.co.uk
SUMMARY:For Evermore – Stories of the Fallen
DESCRIPTION:Fri 20th October to Sat 18th November 2023\nThe Commonwealth War Graves Commission’s (CWGC) mission is to ensure those who died in service or as a result of conflict\, are commemorated so that they\, and the human cost of war\, are remembered forever.\nThis exhibition helps to launch the new platform ‘For Evermore – Stories of the Fallen’ which encourages people to share stories and memories of those commemorated by the CWGC.\nFor more information: https://www.cwgc.org/stories/\nThe Commonwealth War Graves Commission is a global leader in commemoration. Founded by Royal Charter in 1917\, they work on behalf of the Governments of Australia\, Canada\, India\, New Zealand\, South Africa and the United Kingdom to commemorate the 1.7 million men and women from the Commonwealth who lost their lives in the two World Wars.\nThey believe that remembering individuals who have died in conflicts is of universal\, perpetual relevance\, and that reflecting on their deaths is of continuing and paramount importance for us all.\nThe cemeteries\, memorials\, graves\, landscapes\, and records in their care will be found at 23\,000 locations and in more than 150 countries and territories. They are both the practical means of our commemoration of the fallen and vehicles for discovery\, inspiration\, and engagement.\nThe Commonwealth War Graves Commission believe that each one of those we commemorate were people like us\, with their own ambitions\, hopes\, and dreams. It is our duty and privilege to care for their graves and memorials and through our charitable Foundation\, keep their stories alive.
URL:https://www.onestockport.co.uk/townofcultureevent/for-evermore-stories-of-the-fallen/
LOCATION:Stockport War Memorial Art Gallery  Wellington Road South Stockport SK3 8AB
ATTACH;FMTTYPE=image/png:https://www.onestockport.co.uk/wp-content/uploads/2023/10/CWGC-Logo-B@2x1.png
END:VEVENT
BEGIN:VEVENT
DTSTART;VALUE=DATE:20231020
DTEND;VALUE=DATE:20231021
DTSTAMP:20260424T193801
CREATED:20231030T145532Z
LAST-MODIFIED:20231030T145532Z
UID:10002924-1697788800-1697821200@www.onestockport.co.uk
SUMMARY:For Evermore – Stories of the Fallen
DESCRIPTION:The Commonwealth War Graves Commission’s (CWGC) mission is to ensure those who died in service\, or as a result of conflict\, are commemorated so that they\, and the human cost of war\, are remembered for ever.\nThis exhibition helps to launch the new platform ‘For Evermore – Stories of the Fallen’ which encourages people to share stories and memories of those commemorated by the CWGC.\nFor more information: https://www.cwgc.org/stories/\nThe Commonwealth War Graves Commission is a global leader in commemoration. Founded by Royal Charter in 1917\, they work on behalf of the Governments of Australia\, Canada\, India\, New Zealand\, South Africa and the United Kingdom to commemorate the 1.7 million men and women from the Commonwealth who lost their lives in the two World Wars.\nThey believe that remembering individuals who have died in conflicts is of universal\, perpetual relevance\, and that reflecting on their deaths is of continuing and paramount importance for us all.\nThe cemeteries\, memorials\, graves\, landscapes\, and records in their care will be found at 23\,000 locations and in more than 150 countries and territories. They are both the practical means of our commemoration of the fallen and vehicles for discovery\, inspiration\, and engagement.\nThe Commonwealth War Graves Commission believe that each one of those we commemorate were people like us\, with their own ambitions\, hopes\, and dreams. It is our duty and privilege to care for their graves and memorials and through our charitable Foundation\, keep their stories alive.
URL:https://www.onestockport.co.uk/townofcultureevent/for-evermore-stories-of-the-fallen-2/2023-10-20/2/
LOCATION:Stockport War Memorial Art Gallery  Wellington Road South Stockport SK3 8AB
CATEGORIES:Sounds
ATTACH;FMTTYPE=image/png:https://www.onestockport.co.uk/wp-content/uploads/2023/10/CWGC-Logo-B@2x1.png
END:VEVENT
BEGIN:VEVENT
DTSTART;VALUE=DATE:20231020
DTEND;VALUE=DATE:20231119
DTSTAMP:20260424T193801
CREATED:20231030T145532Z
LAST-MODIFIED:20231030T145532Z
UID:10002923-1697760000-1700351999@www.onestockport.co.uk
SUMMARY:For Evermore – Stories of the Fallen
DESCRIPTION:The Commonwealth War Graves Commission’s (CWGC) mission is to ensure those who died in service\, or as a result of conflict\, are commemorated so that they\, and the human cost of war\, are remembered for ever.\nThis exhibition helps to launch the new platform ‘For Evermore – Stories of the Fallen’ which encourages people to share stories and memories of those commemorated by the CWGC.\nFor more information: https://www.cwgc.org/stories/\nThe Commonwealth War Graves Commission is a global leader in commemoration. Founded by Royal Charter in 1917\, they work on behalf of the Governments of Australia\, Canada\, India\, New Zealand\, South Africa and the United Kingdom to commemorate the 1.7 million men and women from the Commonwealth who lost their lives in the two World Wars.\nThey believe that remembering individuals who have died in conflicts is of universal\, perpetual relevance\, and that reflecting on their deaths is of continuing and paramount importance for us all.\nThe cemeteries\, memorials\, graves\, landscapes\, and records in their care will be found at 23\,000 locations and in more than 150 countries and territories. They are both the practical means of our commemoration of the fallen and vehicles for discovery\, inspiration\, and engagement.\nThe Commonwealth War Graves Commission believe that each one of those we commemorate were people like us\, with their own ambitions\, hopes\, and dreams. It is our duty and privilege to care for their graves and memorials and through our charitable Foundation\, keep their stories alive.
URL:https://www.onestockport.co.uk/townofcultureevent/for-evermore-stories-of-the-fallen-2/2023-10-20/1/
LOCATION:Stockport War Memorial Art Gallery  Wellington Road South Stockport SK3 8AB
CATEGORIES:Sounds
ATTACH;FMTTYPE=image/png:https://www.onestockport.co.uk/wp-content/uploads/2023/10/CWGC-Logo-B@2x1.png
END:VEVENT
BEGIN:VEVENT
DTSTART;TZID=Europe/London:20231015T140000
DTEND;TZID=Europe/London:20231015T150000
DTSTAMP:20260424T193801
CREATED:20231004T230151Z
LAST-MODIFIED:20231004T230151Z
UID:10000460-1697378400-1697382000@www.onestockport.co.uk
SUMMARY:Meet the Glasgow Girls by Julia Marwood
DESCRIPTION:About the Glasgow Girls: \nFor much of the nineteenth century\, Scottish art had a very particular character – certainly good\, but rather conservative and perhaps a little dull. The Glasgow Boys emerged on the scene in the early 1880s\, excited by new developments on the Continent\, and fighting their way to the notice of the British art world. But there were Glasgow Girls too\, a little later\, women who made their mark in many branches of art and design\, helped by the advent of a new forward-looking regime at the Glasgow School of Art. This lecture will tell the story of the Glasgow Girls and introduce many of the most important characters\, including textile artists Jessie Newbery and Ann Macbeth\, illustrator Jessie M King\, fine artists Stansmore Dean\, Bessie MacNicol and Norah Neilson Gray\, and the sets of talented sisters working together in the field of design and applied art – the Waltons\, the Gilmours and\, of course\, the remarkable Macdonalds – Frances and Margaret\, the latter known for so much of the twentieth century as just Mrs Mackintosh. Now their outstanding achievements are being increasingly researched and celebrated\, as they so rightly deserve. \nVenue: Stockport War Memorial Art Gallery\, Wellington Rd South\, Stockport\, SK3 8AB. \nDisabled access. \nPay and display car parking nearby. \nRefreshments available. \nFree event \nThis event is organised by Stockport Art Guild \ncontact@stockportartguild.com \n****** Book now to reserve a spot ******
URL:https://www.onestockport.co.uk/townofcultureevent/meet-the-glasgow-girls-by-julia-marwood/
LOCATION:Stockport War Memorial Art Gallery  Wellington Road South Stockport SK3 8AB
CATEGORIES:Makes
ATTACH;FMTTYPE=image/jpeg:https://www.onestockport.co.uk/wp-content/uploads/2023/10/Glasgow-Girls.jpg
END:VEVENT
BEGIN:VEVENT
DTSTART;TZID=Europe/London:20231014T140000
DTEND;TZID=Europe/London:20231014T160000
DTSTAMP:20260424T193801
CREATED:20230911T120234Z
LAST-MODIFIED:20230911T120234Z
UID:10000376-1697292000-1697299200@www.onestockport.co.uk
SUMMARY:Learn how to Write and Perform your own poetry!
DESCRIPTION:Join us for a two part poetry workshop! In the first half you will be guided to create your own poem with help from life long poet\, Linda Cosgriff. In the second half of the workshop retired teacher of Speech and Drama\, Corrine Lawrence\, will coach you on building confidence in your poetry speaking skills by covering particular techniques including: posture\, eye contact and breath control.\nThis is a FREE workshop and is brought to you by Stockport Town of Culture.\nMaterials Provided \nAge 16+
URL:https://www.onestockport.co.uk/townofcultureevent/learn-how-to-write-and-perform-your-own-poetry/
LOCATION:Stockport War Memorial Art Gallery  Wellington Road South Stockport SK3 8AB
CATEGORIES:Makes
ATTACH;FMTTYPE=image/png:https://www.onestockport.co.uk/wp-content/uploads/2023/09/Learn-to-Write-and-Perform.png
END:VEVENT
BEGIN:VEVENT
DTSTART;TZID=Europe/London:20230914T133000
DTEND;TZID=Europe/London:20230914T150000
DTSTAMP:20260424T193801
CREATED:20230905T105603Z
LAST-MODIFIED:20230905T105603Z
UID:10000346-1694698200-1694703600@www.onestockport.co.uk
SUMMARY:Tour of the Hall of Memory at Stockport War Memorial Art Gallery
DESCRIPTION:Come and join us at our very own Stockport War Memorial Art Gallery for a tour of the Hall of Memory as we mark the approach of the gallery’s centenary! \nTours last 30 minutes. Ages 12+. \nFree admission but please book your place by either: \n0161 474 4453 or email: stockport.artgallery@stockport.gov.uk
URL:https://www.onestockport.co.uk/townofcultureevent/tour-of-the-hall-of-memory-at-stockport-war-memorial-art-gallery/
LOCATION:Stockport War Memorial Art Gallery  Wellington Road South Stockport SK3 8AB
CATEGORIES:Makes
ATTACH;FMTTYPE=image/jpeg:https://www.onestockport.co.uk/wp-content/uploads/2023/08/1-SWMAG-Post-Refurb-Blue-Sky-20161-scaled.jpg
END:VEVENT
END:VCALENDAR