BEGIN:VCALENDAR
VERSION:2.0
PRODID:-//One Stockport - ECPv6.15.18//NONSGML v1.0//EN
CALSCALE:GREGORIAN
METHOD:PUBLISH
X-ORIGINAL-URL:https://www.onestockport.co.uk
X-WR-CALDESC:Events for One Stockport
REFRESH-INTERVAL;VALUE=DURATION:PT1H
X-Robots-Tag:noindex
X-PUBLISHED-TTL:PT1H
BEGIN:VTIMEZONE
TZID:Europe/London
BEGIN:DAYLIGHT
TZOFFSETFROM:+0000
TZOFFSETTO:+0100
TZNAME:BST
DTSTART:20220327T010000
END:DAYLIGHT
BEGIN:STANDARD
TZOFFSETFROM:+0100
TZOFFSETTO:+0000
TZNAME:GMT
DTSTART:20221030T010000
END:STANDARD
BEGIN:DAYLIGHT
TZOFFSETFROM:+0000
TZOFFSETTO:+0100
TZNAME:BST
DTSTART:20230326T010000
END:DAYLIGHT
BEGIN:STANDARD
TZOFFSETFROM:+0100
TZOFFSETTO:+0000
TZNAME:GMT
DTSTART:20231029T010000
END:STANDARD
BEGIN:DAYLIGHT
TZOFFSETFROM:+0000
TZOFFSETTO:+0100
TZNAME:BST
DTSTART:20240331T010000
END:DAYLIGHT
BEGIN:STANDARD
TZOFFSETFROM:+0100
TZOFFSETTO:+0000
TZNAME:GMT
DTSTART:20241027T010000
END:STANDARD
END:VTIMEZONE
BEGIN:VEVENT
DTSTART;TZID=Europe/London:20231028T120000
DTEND;TZID=Europe/London:20231028T170000
DTSTAMP:20260425T004553
CREATED:20231019T143308Z
LAST-MODIFIED:20231019T143308Z
UID:10000483-1698494400-1698512400@www.onestockport.co.uk
SUMMARY:Empowerment Event
DESCRIPTION:Join us at Feel Good Feminist Fightclub for our October Empowerment Event on the 28th October 2023 at Stockport Meeting House. \n12:00-12:30: Introductions\, drinks\, cake. 12:30-14:30: Ceramic Pumpkin Painting. 14:30-15:15: Lunch and open discussion/share and reflection time. 15:15-15:45: Self Love Oracle Card Reading 15:45-16:30: Laughter Yoga with Claire Scott. 16:30-17:00: Gratitude Exercise and wrap up. PLUS a mindful moment goody bag! \nTickets: £32 – All activities\, materials\, food and drinks will be provided for you. \nFood and drinks will be vegan – if you have further dietary requirements\, please let us know in advance. Photos will be taken throughout the event and may be used in future marketing – if you wish NOT to be photographed\, please get in touch beforehand.
URL:https://www.onestockport.co.uk/townofcultureevent/empowerment-event/
LOCATION:Stockport Meeting House\, 2 Cooper Street\, SK1 3DW
ATTACH;FMTTYPE=image/jpeg:https://www.onestockport.co.uk/wp-content/uploads/2023/10/feel-good.jpg
END:VEVENT
END:VCALENDAR