BEGIN:VCALENDAR
VERSION:2.0
PRODID:-//One Stockport - ECPv6.15.18//NONSGML v1.0//EN
CALSCALE:GREGORIAN
METHOD:PUBLISH
X-WR-CALNAME:One Stockport
X-ORIGINAL-URL:https://www.onestockport.co.uk
X-WR-CALDESC:Events for One Stockport
REFRESH-INTERVAL;VALUE=DURATION:PT1H
X-Robots-Tag:noindex
X-PUBLISHED-TTL:PT1H
BEGIN:VTIMEZONE
TZID:Europe/London
BEGIN:DAYLIGHT
TZOFFSETFROM:+0000
TZOFFSETTO:+0100
TZNAME:BST
DTSTART:20250330T010000
END:DAYLIGHT
BEGIN:STANDARD
TZOFFSETFROM:+0100
TZOFFSETTO:+0000
TZNAME:GMT
DTSTART:20251026T010000
END:STANDARD
BEGIN:DAYLIGHT
TZOFFSETFROM:+0000
TZOFFSETTO:+0100
TZNAME:BST
DTSTART:20260329T010000
END:DAYLIGHT
BEGIN:STANDARD
TZOFFSETFROM:+0100
TZOFFSETTO:+0000
TZNAME:GMT
DTSTART:20261025T010000
END:STANDARD
BEGIN:DAYLIGHT
TZOFFSETFROM:+0000
TZOFFSETTO:+0100
TZNAME:BST
DTSTART:20270328T010000
END:DAYLIGHT
BEGIN:STANDARD
TZOFFSETFROM:+0100
TZOFFSETTO:+0000
TZNAME:GMT
DTSTART:20271031T010000
END:STANDARD
BEGIN:DAYLIGHT
TZOFFSETFROM:+0000
TZOFFSETTO:+0100
TZNAME:BST
DTSTART:20280326T010000
END:DAYLIGHT
BEGIN:STANDARD
TZOFFSETFROM:+0100
TZOFFSETTO:+0000
TZNAME:GMT
DTSTART:20281029T010000
END:STANDARD
END:VTIMEZONE
BEGIN:VEVENT
DTSTART;TZID=Europe/London:20261013T150000
DTEND;TZID=Europe/London:20261013T160000
DTSTAMP:20260424T230645
CREATED:20231024T140916Z
LAST-MODIFIED:20231024T140916Z
UID:10002017-1791903600-1791907200@www.onestockport.co.uk
SUMMARY:Crochet\, knit and craft @ High Lane Library
DESCRIPTION:Bring along your knitting\, crochet or craft to this free drop-in.\nJoin our casual gathering and meet fellow makers\, have a brew and a chat.\nFrom expert to beginner. Everyone is welcome
URL:https://www.onestockport.co.uk/townofcultureevent/crochet-knit-and-craft-high-lane-library/2026-10-13/
LOCATION:High Lane Library Buxton Road High Lane Stockport SK6 8DX
CATEGORIES:Makes
ATTACH;FMTTYPE=image/png:https://www.onestockport.co.uk/wp-content/uploads/2023/10/Crochet-and-knit1.png
END:VEVENT
BEGIN:VEVENT
DTSTART;TZID=Europe/London:20261020T150000
DTEND;TZID=Europe/London:20261020T160000
DTSTAMP:20260424T230645
CREATED:20231024T140916Z
LAST-MODIFIED:20231024T140916Z
UID:10002018-1792508400-1792512000@www.onestockport.co.uk
SUMMARY:Crochet\, knit and craft @ High Lane Library
DESCRIPTION:Bring along your knitting\, crochet or craft to this free drop-in.\nJoin our casual gathering and meet fellow makers\, have a brew and a chat.\nFrom expert to beginner. Everyone is welcome
URL:https://www.onestockport.co.uk/townofcultureevent/crochet-knit-and-craft-high-lane-library/2026-10-20/
LOCATION:High Lane Library Buxton Road High Lane Stockport SK6 8DX
CATEGORIES:Makes
ATTACH;FMTTYPE=image/png:https://www.onestockport.co.uk/wp-content/uploads/2023/10/Crochet-and-knit1.png
END:VEVENT
BEGIN:VEVENT
DTSTART;TZID=Europe/London:20261027T150000
DTEND;TZID=Europe/London:20261027T160000
DTSTAMP:20260424T230645
CREATED:20231024T140916Z
LAST-MODIFIED:20231024T140916Z
UID:10002019-1793113200-1793116800@www.onestockport.co.uk
SUMMARY:Crochet\, knit and craft @ High Lane Library
DESCRIPTION:Bring along your knitting\, crochet or craft to this free drop-in.\nJoin our casual gathering and meet fellow makers\, have a brew and a chat.\nFrom expert to beginner. Everyone is welcome
URL:https://www.onestockport.co.uk/townofcultureevent/crochet-knit-and-craft-high-lane-library/2026-10-27/
LOCATION:High Lane Library Buxton Road High Lane Stockport SK6 8DX
CATEGORIES:Makes
ATTACH;FMTTYPE=image/png:https://www.onestockport.co.uk/wp-content/uploads/2023/10/Crochet-and-knit1.png
END:VEVENT
BEGIN:VEVENT
DTSTART;TZID=Europe/London:20261103T150000
DTEND;TZID=Europe/London:20261103T160000
DTSTAMP:20260424T230645
CREATED:20231024T140916Z
LAST-MODIFIED:20231024T140916Z
UID:10002020-1793718000-1793721600@www.onestockport.co.uk
SUMMARY:Crochet\, knit and craft @ High Lane Library
DESCRIPTION:Bring along your knitting\, crochet or craft to this free drop-in.\nJoin our casual gathering and meet fellow makers\, have a brew and a chat.\nFrom expert to beginner. Everyone is welcome
URL:https://www.onestockport.co.uk/townofcultureevent/crochet-knit-and-craft-high-lane-library/2026-11-03/
LOCATION:High Lane Library Buxton Road High Lane Stockport SK6 8DX
CATEGORIES:Makes
ATTACH;FMTTYPE=image/png:https://www.onestockport.co.uk/wp-content/uploads/2023/10/Crochet-and-knit1.png
END:VEVENT
BEGIN:VEVENT
DTSTART;TZID=Europe/London:20261110T150000
DTEND;TZID=Europe/London:20261110T160000
DTSTAMP:20260424T230645
CREATED:20231024T140916Z
LAST-MODIFIED:20231024T140916Z
UID:10002021-1794322800-1794326400@www.onestockport.co.uk
SUMMARY:Crochet\, knit and craft @ High Lane Library
DESCRIPTION:Bring along your knitting\, crochet or craft to this free drop-in.\nJoin our casual gathering and meet fellow makers\, have a brew and a chat.\nFrom expert to beginner. Everyone is welcome
URL:https://www.onestockport.co.uk/townofcultureevent/crochet-knit-and-craft-high-lane-library/2026-11-10/
LOCATION:High Lane Library Buxton Road High Lane Stockport SK6 8DX
CATEGORIES:Makes
ATTACH;FMTTYPE=image/png:https://www.onestockport.co.uk/wp-content/uploads/2023/10/Crochet-and-knit1.png
END:VEVENT
BEGIN:VEVENT
DTSTART;TZID=Europe/London:20261117T150000
DTEND;TZID=Europe/London:20261117T160000
DTSTAMP:20260424T230645
CREATED:20231024T140916Z
LAST-MODIFIED:20231024T140916Z
UID:10002022-1794927600-1794931200@www.onestockport.co.uk
SUMMARY:Crochet\, knit and craft @ High Lane Library
DESCRIPTION:Bring along your knitting\, crochet or craft to this free drop-in.\nJoin our casual gathering and meet fellow makers\, have a brew and a chat.\nFrom expert to beginner. Everyone is welcome
URL:https://www.onestockport.co.uk/townofcultureevent/crochet-knit-and-craft-high-lane-library/2026-11-17/
LOCATION:High Lane Library Buxton Road High Lane Stockport SK6 8DX
CATEGORIES:Makes
ATTACH;FMTTYPE=image/png:https://www.onestockport.co.uk/wp-content/uploads/2023/10/Crochet-and-knit1.png
END:VEVENT
BEGIN:VEVENT
DTSTART;TZID=Europe/London:20261124T150000
DTEND;TZID=Europe/London:20261124T160000
DTSTAMP:20260424T230645
CREATED:20231024T140916Z
LAST-MODIFIED:20231024T140916Z
UID:10002023-1795532400-1795536000@www.onestockport.co.uk
SUMMARY:Crochet\, knit and craft @ High Lane Library
DESCRIPTION:Bring along your knitting\, crochet or craft to this free drop-in.\nJoin our casual gathering and meet fellow makers\, have a brew and a chat.\nFrom expert to beginner. Everyone is welcome
URL:https://www.onestockport.co.uk/townofcultureevent/crochet-knit-and-craft-high-lane-library/2026-11-24/
LOCATION:High Lane Library Buxton Road High Lane Stockport SK6 8DX
CATEGORIES:Makes
ATTACH;FMTTYPE=image/png:https://www.onestockport.co.uk/wp-content/uploads/2023/10/Crochet-and-knit1.png
END:VEVENT
BEGIN:VEVENT
DTSTART;TZID=Europe/London:20261201T150000
DTEND;TZID=Europe/London:20261201T160000
DTSTAMP:20260424T230645
CREATED:20231024T140916Z
LAST-MODIFIED:20231024T140916Z
UID:10002024-1796137200-1796140800@www.onestockport.co.uk
SUMMARY:Crochet\, knit and craft @ High Lane Library
DESCRIPTION:Bring along your knitting\, crochet or craft to this free drop-in.\nJoin our casual gathering and meet fellow makers\, have a brew and a chat.\nFrom expert to beginner. Everyone is welcome
URL:https://www.onestockport.co.uk/townofcultureevent/crochet-knit-and-craft-high-lane-library/2026-12-01/
LOCATION:High Lane Library Buxton Road High Lane Stockport SK6 8DX
CATEGORIES:Makes
ATTACH;FMTTYPE=image/png:https://www.onestockport.co.uk/wp-content/uploads/2023/10/Crochet-and-knit1.png
END:VEVENT
BEGIN:VEVENT
DTSTART;TZID=Europe/London:20261208T150000
DTEND;TZID=Europe/London:20261208T160000
DTSTAMP:20260424T230645
CREATED:20231024T140916Z
LAST-MODIFIED:20231024T140916Z
UID:10002025-1796742000-1796745600@www.onestockport.co.uk
SUMMARY:Crochet\, knit and craft @ High Lane Library
DESCRIPTION:Bring along your knitting\, crochet or craft to this free drop-in.\nJoin our casual gathering and meet fellow makers\, have a brew and a chat.\nFrom expert to beginner. Everyone is welcome
URL:https://www.onestockport.co.uk/townofcultureevent/crochet-knit-and-craft-high-lane-library/2026-12-08/
LOCATION:High Lane Library Buxton Road High Lane Stockport SK6 8DX
CATEGORIES:Makes
ATTACH;FMTTYPE=image/png:https://www.onestockport.co.uk/wp-content/uploads/2023/10/Crochet-and-knit1.png
END:VEVENT
BEGIN:VEVENT
DTSTART;TZID=Europe/London:20261215T150000
DTEND;TZID=Europe/London:20261215T160000
DTSTAMP:20260424T230645
CREATED:20231024T140916Z
LAST-MODIFIED:20231024T140916Z
UID:10002026-1797346800-1797350400@www.onestockport.co.uk
SUMMARY:Crochet\, knit and craft @ High Lane Library
DESCRIPTION:Bring along your knitting\, crochet or craft to this free drop-in.\nJoin our casual gathering and meet fellow makers\, have a brew and a chat.\nFrom expert to beginner. Everyone is welcome
URL:https://www.onestockport.co.uk/townofcultureevent/crochet-knit-and-craft-high-lane-library/2026-12-15/
LOCATION:High Lane Library Buxton Road High Lane Stockport SK6 8DX
CATEGORIES:Makes
ATTACH;FMTTYPE=image/png:https://www.onestockport.co.uk/wp-content/uploads/2023/10/Crochet-and-knit1.png
END:VEVENT
BEGIN:VEVENT
DTSTART;TZID=Europe/London:20261222T150000
DTEND;TZID=Europe/London:20261222T160000
DTSTAMP:20260424T230645
CREATED:20231024T140916Z
LAST-MODIFIED:20231024T140916Z
UID:10002027-1797951600-1797955200@www.onestockport.co.uk
SUMMARY:Crochet\, knit and craft @ High Lane Library
DESCRIPTION:Bring along your knitting\, crochet or craft to this free drop-in.\nJoin our casual gathering and meet fellow makers\, have a brew and a chat.\nFrom expert to beginner. Everyone is welcome
URL:https://www.onestockport.co.uk/townofcultureevent/crochet-knit-and-craft-high-lane-library/2026-12-22/
LOCATION:High Lane Library Buxton Road High Lane Stockport SK6 8DX
CATEGORIES:Makes
ATTACH;FMTTYPE=image/png:https://www.onestockport.co.uk/wp-content/uploads/2023/10/Crochet-and-knit1.png
END:VEVENT
BEGIN:VEVENT
DTSTART;TZID=Europe/London:20261229T150000
DTEND;TZID=Europe/London:20261229T160000
DTSTAMP:20260424T230645
CREATED:20231024T140916Z
LAST-MODIFIED:20231024T140916Z
UID:10002028-1798556400-1798560000@www.onestockport.co.uk
SUMMARY:Crochet\, knit and craft @ High Lane Library
DESCRIPTION:Bring along your knitting\, crochet or craft to this free drop-in.\nJoin our casual gathering and meet fellow makers\, have a brew and a chat.\nFrom expert to beginner. Everyone is welcome
URL:https://www.onestockport.co.uk/townofcultureevent/crochet-knit-and-craft-high-lane-library/2026-12-29/
LOCATION:High Lane Library Buxton Road High Lane Stockport SK6 8DX
CATEGORIES:Makes
ATTACH;FMTTYPE=image/png:https://www.onestockport.co.uk/wp-content/uploads/2023/10/Crochet-and-knit1.png
END:VEVENT
BEGIN:VEVENT
DTSTART;TZID=Europe/London:20270105T150000
DTEND;TZID=Europe/London:20270105T160000
DTSTAMP:20260424T230645
CREATED:20231024T140916Z
LAST-MODIFIED:20231024T140916Z
UID:10002029-1799161200-1799164800@www.onestockport.co.uk
SUMMARY:Crochet\, knit and craft @ High Lane Library
DESCRIPTION:Bring along your knitting\, crochet or craft to this free drop-in.\nJoin our casual gathering and meet fellow makers\, have a brew and a chat.\nFrom expert to beginner. Everyone is welcome
URL:https://www.onestockport.co.uk/townofcultureevent/crochet-knit-and-craft-high-lane-library/2027-01-05/
LOCATION:High Lane Library Buxton Road High Lane Stockport SK6 8DX
CATEGORIES:Makes
ATTACH;FMTTYPE=image/png:https://www.onestockport.co.uk/wp-content/uploads/2023/10/Crochet-and-knit1.png
END:VEVENT
BEGIN:VEVENT
DTSTART;TZID=Europe/London:20270112T150000
DTEND;TZID=Europe/London:20270112T160000
DTSTAMP:20260424T230645
CREATED:20231024T140916Z
LAST-MODIFIED:20231024T140916Z
UID:10002030-1799766000-1799769600@www.onestockport.co.uk
SUMMARY:Crochet\, knit and craft @ High Lane Library
DESCRIPTION:Bring along your knitting\, crochet or craft to this free drop-in.\nJoin our casual gathering and meet fellow makers\, have a brew and a chat.\nFrom expert to beginner. Everyone is welcome
URL:https://www.onestockport.co.uk/townofcultureevent/crochet-knit-and-craft-high-lane-library/2027-01-12/
LOCATION:High Lane Library Buxton Road High Lane Stockport SK6 8DX
CATEGORIES:Makes
ATTACH;FMTTYPE=image/png:https://www.onestockport.co.uk/wp-content/uploads/2023/10/Crochet-and-knit1.png
END:VEVENT
BEGIN:VEVENT
DTSTART;TZID=Europe/London:20270119T150000
DTEND;TZID=Europe/London:20270119T160000
DTSTAMP:20260424T230645
CREATED:20231024T140916Z
LAST-MODIFIED:20231024T140916Z
UID:10002031-1800370800-1800374400@www.onestockport.co.uk
SUMMARY:Crochet\, knit and craft @ High Lane Library
DESCRIPTION:Bring along your knitting\, crochet or craft to this free drop-in.\nJoin our casual gathering and meet fellow makers\, have a brew and a chat.\nFrom expert to beginner. Everyone is welcome
URL:https://www.onestockport.co.uk/townofcultureevent/crochet-knit-and-craft-high-lane-library/2027-01-19/
LOCATION:High Lane Library Buxton Road High Lane Stockport SK6 8DX
CATEGORIES:Makes
ATTACH;FMTTYPE=image/png:https://www.onestockport.co.uk/wp-content/uploads/2023/10/Crochet-and-knit1.png
END:VEVENT
BEGIN:VEVENT
DTSTART;TZID=Europe/London:20270126T150000
DTEND;TZID=Europe/London:20270126T160000
DTSTAMP:20260424T230645
CREATED:20231024T140916Z
LAST-MODIFIED:20231024T140916Z
UID:10002032-1800975600-1800979200@www.onestockport.co.uk
SUMMARY:Crochet\, knit and craft @ High Lane Library
DESCRIPTION:Bring along your knitting\, crochet or craft to this free drop-in.\nJoin our casual gathering and meet fellow makers\, have a brew and a chat.\nFrom expert to beginner. Everyone is welcome
URL:https://www.onestockport.co.uk/townofcultureevent/crochet-knit-and-craft-high-lane-library/2027-01-26/
LOCATION:High Lane Library Buxton Road High Lane Stockport SK6 8DX
CATEGORIES:Makes
ATTACH;FMTTYPE=image/png:https://www.onestockport.co.uk/wp-content/uploads/2023/10/Crochet-and-knit1.png
END:VEVENT
BEGIN:VEVENT
DTSTART;TZID=Europe/London:20270202T150000
DTEND;TZID=Europe/London:20270202T160000
DTSTAMP:20260424T230645
CREATED:20231024T140916Z
LAST-MODIFIED:20231024T140916Z
UID:10002033-1801580400-1801584000@www.onestockport.co.uk
SUMMARY:Crochet\, knit and craft @ High Lane Library
DESCRIPTION:Bring along your knitting\, crochet or craft to this free drop-in.\nJoin our casual gathering and meet fellow makers\, have a brew and a chat.\nFrom expert to beginner. Everyone is welcome
URL:https://www.onestockport.co.uk/townofcultureevent/crochet-knit-and-craft-high-lane-library/2027-02-02/
LOCATION:High Lane Library Buxton Road High Lane Stockport SK6 8DX
CATEGORIES:Makes
ATTACH;FMTTYPE=image/png:https://www.onestockport.co.uk/wp-content/uploads/2023/10/Crochet-and-knit1.png
END:VEVENT
BEGIN:VEVENT
DTSTART;TZID=Europe/London:20270209T150000
DTEND;TZID=Europe/London:20270209T160000
DTSTAMP:20260424T230645
CREATED:20231024T140916Z
LAST-MODIFIED:20231024T140916Z
UID:10002034-1802185200-1802188800@www.onestockport.co.uk
SUMMARY:Crochet\, knit and craft @ High Lane Library
DESCRIPTION:Bring along your knitting\, crochet or craft to this free drop-in.\nJoin our casual gathering and meet fellow makers\, have a brew and a chat.\nFrom expert to beginner. Everyone is welcome
URL:https://www.onestockport.co.uk/townofcultureevent/crochet-knit-and-craft-high-lane-library/2027-02-09/
LOCATION:High Lane Library Buxton Road High Lane Stockport SK6 8DX
CATEGORIES:Makes
ATTACH;FMTTYPE=image/png:https://www.onestockport.co.uk/wp-content/uploads/2023/10/Crochet-and-knit1.png
END:VEVENT
BEGIN:VEVENT
DTSTART;TZID=Europe/London:20270216T150000
DTEND;TZID=Europe/London:20270216T160000
DTSTAMP:20260424T230645
CREATED:20231024T140916Z
LAST-MODIFIED:20231024T140916Z
UID:10002035-1802790000-1802793600@www.onestockport.co.uk
SUMMARY:Crochet\, knit and craft @ High Lane Library
DESCRIPTION:Bring along your knitting\, crochet or craft to this free drop-in.\nJoin our casual gathering and meet fellow makers\, have a brew and a chat.\nFrom expert to beginner. Everyone is welcome
URL:https://www.onestockport.co.uk/townofcultureevent/crochet-knit-and-craft-high-lane-library/2027-02-16/
LOCATION:High Lane Library Buxton Road High Lane Stockport SK6 8DX
CATEGORIES:Makes
ATTACH;FMTTYPE=image/png:https://www.onestockport.co.uk/wp-content/uploads/2023/10/Crochet-and-knit1.png
END:VEVENT
BEGIN:VEVENT
DTSTART;TZID=Europe/London:20270223T150000
DTEND;TZID=Europe/London:20270223T160000
DTSTAMP:20260424T230645
CREATED:20231024T140916Z
LAST-MODIFIED:20231024T140916Z
UID:10002036-1803394800-1803398400@www.onestockport.co.uk
SUMMARY:Crochet\, knit and craft @ High Lane Library
DESCRIPTION:Bring along your knitting\, crochet or craft to this free drop-in.\nJoin our casual gathering and meet fellow makers\, have a brew and a chat.\nFrom expert to beginner. Everyone is welcome
URL:https://www.onestockport.co.uk/townofcultureevent/crochet-knit-and-craft-high-lane-library/2027-02-23/
LOCATION:High Lane Library Buxton Road High Lane Stockport SK6 8DX
CATEGORIES:Makes
ATTACH;FMTTYPE=image/png:https://www.onestockport.co.uk/wp-content/uploads/2023/10/Crochet-and-knit1.png
END:VEVENT
BEGIN:VEVENT
DTSTART;TZID=Europe/London:20270302T150000
DTEND;TZID=Europe/London:20270302T160000
DTSTAMP:20260424T230645
CREATED:20231024T140916Z
LAST-MODIFIED:20231024T140916Z
UID:10002037-1803999600-1804003200@www.onestockport.co.uk
SUMMARY:Crochet\, knit and craft @ High Lane Library
DESCRIPTION:Bring along your knitting\, crochet or craft to this free drop-in.\nJoin our casual gathering and meet fellow makers\, have a brew and a chat.\nFrom expert to beginner. Everyone is welcome
URL:https://www.onestockport.co.uk/townofcultureevent/crochet-knit-and-craft-high-lane-library/2027-03-02/
LOCATION:High Lane Library Buxton Road High Lane Stockport SK6 8DX
CATEGORIES:Makes
ATTACH;FMTTYPE=image/png:https://www.onestockport.co.uk/wp-content/uploads/2023/10/Crochet-and-knit1.png
END:VEVENT
BEGIN:VEVENT
DTSTART;TZID=Europe/London:20270309T150000
DTEND;TZID=Europe/London:20270309T160000
DTSTAMP:20260424T230645
CREATED:20231024T140916Z
LAST-MODIFIED:20231024T140916Z
UID:10002038-1804604400-1804608000@www.onestockport.co.uk
SUMMARY:Crochet\, knit and craft @ High Lane Library
DESCRIPTION:Bring along your knitting\, crochet or craft to this free drop-in.\nJoin our casual gathering and meet fellow makers\, have a brew and a chat.\nFrom expert to beginner. Everyone is welcome
URL:https://www.onestockport.co.uk/townofcultureevent/crochet-knit-and-craft-high-lane-library/2027-03-09/
LOCATION:High Lane Library Buxton Road High Lane Stockport SK6 8DX
CATEGORIES:Makes
ATTACH;FMTTYPE=image/png:https://www.onestockport.co.uk/wp-content/uploads/2023/10/Crochet-and-knit1.png
END:VEVENT
BEGIN:VEVENT
DTSTART;TZID=Europe/London:20270316T150000
DTEND;TZID=Europe/London:20270316T160000
DTSTAMP:20260424T230645
CREATED:20231024T140916Z
LAST-MODIFIED:20231024T140916Z
UID:10002039-1805209200-1805212800@www.onestockport.co.uk
SUMMARY:Crochet\, knit and craft @ High Lane Library
DESCRIPTION:Bring along your knitting\, crochet or craft to this free drop-in.\nJoin our casual gathering and meet fellow makers\, have a brew and a chat.\nFrom expert to beginner. Everyone is welcome
URL:https://www.onestockport.co.uk/townofcultureevent/crochet-knit-and-craft-high-lane-library/2027-03-16/
LOCATION:High Lane Library Buxton Road High Lane Stockport SK6 8DX
CATEGORIES:Makes
ATTACH;FMTTYPE=image/png:https://www.onestockport.co.uk/wp-content/uploads/2023/10/Crochet-and-knit1.png
END:VEVENT
BEGIN:VEVENT
DTSTART;TZID=Europe/London:20270323T150000
DTEND;TZID=Europe/London:20270323T160000
DTSTAMP:20260424T230645
CREATED:20231024T140916Z
LAST-MODIFIED:20231024T140916Z
UID:10002040-1805814000-1805817600@www.onestockport.co.uk
SUMMARY:Crochet\, knit and craft @ High Lane Library
DESCRIPTION:Bring along your knitting\, crochet or craft to this free drop-in.\nJoin our casual gathering and meet fellow makers\, have a brew and a chat.\nFrom expert to beginner. Everyone is welcome
URL:https://www.onestockport.co.uk/townofcultureevent/crochet-knit-and-craft-high-lane-library/2027-03-23/
LOCATION:High Lane Library Buxton Road High Lane Stockport SK6 8DX
CATEGORIES:Makes
ATTACH;FMTTYPE=image/png:https://www.onestockport.co.uk/wp-content/uploads/2023/10/Crochet-and-knit1.png
END:VEVENT
BEGIN:VEVENT
DTSTART;TZID=Europe/London:20270330T150000
DTEND;TZID=Europe/London:20270330T160000
DTSTAMP:20260424T230645
CREATED:20231024T140916Z
LAST-MODIFIED:20231024T140916Z
UID:10002041-1806418800-1806422400@www.onestockport.co.uk
SUMMARY:Crochet\, knit and craft @ High Lane Library
DESCRIPTION:Bring along your knitting\, crochet or craft to this free drop-in.\nJoin our casual gathering and meet fellow makers\, have a brew and a chat.\nFrom expert to beginner. Everyone is welcome
URL:https://www.onestockport.co.uk/townofcultureevent/crochet-knit-and-craft-high-lane-library/2027-03-30/
LOCATION:High Lane Library Buxton Road High Lane Stockport SK6 8DX
CATEGORIES:Makes
ATTACH;FMTTYPE=image/png:https://www.onestockport.co.uk/wp-content/uploads/2023/10/Crochet-and-knit1.png
END:VEVENT
BEGIN:VEVENT
DTSTART;TZID=Europe/London:20270406T150000
DTEND;TZID=Europe/London:20270406T160000
DTSTAMP:20260424T230645
CREATED:20231024T140916Z
LAST-MODIFIED:20231024T140916Z
UID:10002042-1807023600-1807027200@www.onestockport.co.uk
SUMMARY:Crochet\, knit and craft @ High Lane Library
DESCRIPTION:Bring along your knitting\, crochet or craft to this free drop-in.\nJoin our casual gathering and meet fellow makers\, have a brew and a chat.\nFrom expert to beginner. Everyone is welcome
URL:https://www.onestockport.co.uk/townofcultureevent/crochet-knit-and-craft-high-lane-library/2027-04-06/
LOCATION:High Lane Library Buxton Road High Lane Stockport SK6 8DX
CATEGORIES:Makes
ATTACH;FMTTYPE=image/png:https://www.onestockport.co.uk/wp-content/uploads/2023/10/Crochet-and-knit1.png
END:VEVENT
BEGIN:VEVENT
DTSTART;TZID=Europe/London:20270413T150000
DTEND;TZID=Europe/London:20270413T160000
DTSTAMP:20260424T230645
CREATED:20231024T140916Z
LAST-MODIFIED:20231024T140916Z
UID:10002043-1807628400-1807632000@www.onestockport.co.uk
SUMMARY:Crochet\, knit and craft @ High Lane Library
DESCRIPTION:Bring along your knitting\, crochet or craft to this free drop-in.\nJoin our casual gathering and meet fellow makers\, have a brew and a chat.\nFrom expert to beginner. Everyone is welcome
URL:https://www.onestockport.co.uk/townofcultureevent/crochet-knit-and-craft-high-lane-library/2027-04-13/
LOCATION:High Lane Library Buxton Road High Lane Stockport SK6 8DX
CATEGORIES:Makes
ATTACH;FMTTYPE=image/png:https://www.onestockport.co.uk/wp-content/uploads/2023/10/Crochet-and-knit1.png
END:VEVENT
BEGIN:VEVENT
DTSTART;TZID=Europe/London:20270420T150000
DTEND;TZID=Europe/London:20270420T160000
DTSTAMP:20260424T230645
CREATED:20231024T140916Z
LAST-MODIFIED:20231024T140916Z
UID:10002044-1808233200-1808236800@www.onestockport.co.uk
SUMMARY:Crochet\, knit and craft @ High Lane Library
DESCRIPTION:Bring along your knitting\, crochet or craft to this free drop-in.\nJoin our casual gathering and meet fellow makers\, have a brew and a chat.\nFrom expert to beginner. Everyone is welcome
URL:https://www.onestockport.co.uk/townofcultureevent/crochet-knit-and-craft-high-lane-library/2027-04-20/
LOCATION:High Lane Library Buxton Road High Lane Stockport SK6 8DX
CATEGORIES:Makes
ATTACH;FMTTYPE=image/png:https://www.onestockport.co.uk/wp-content/uploads/2023/10/Crochet-and-knit1.png
END:VEVENT
BEGIN:VEVENT
DTSTART;TZID=Europe/London:20270427T150000
DTEND;TZID=Europe/London:20270427T160000
DTSTAMP:20260424T230645
CREATED:20231024T140916Z
LAST-MODIFIED:20231024T140916Z
UID:10002045-1808838000-1808841600@www.onestockport.co.uk
SUMMARY:Crochet\, knit and craft @ High Lane Library
DESCRIPTION:Bring along your knitting\, crochet or craft to this free drop-in.\nJoin our casual gathering and meet fellow makers\, have a brew and a chat.\nFrom expert to beginner. Everyone is welcome
URL:https://www.onestockport.co.uk/townofcultureevent/crochet-knit-and-craft-high-lane-library/2027-04-27/
LOCATION:High Lane Library Buxton Road High Lane Stockport SK6 8DX
CATEGORIES:Makes
ATTACH;FMTTYPE=image/png:https://www.onestockport.co.uk/wp-content/uploads/2023/10/Crochet-and-knit1.png
END:VEVENT
BEGIN:VEVENT
DTSTART;TZID=Europe/London:20270504T150000
DTEND;TZID=Europe/London:20270504T160000
DTSTAMP:20260424T230645
CREATED:20231024T140916Z
LAST-MODIFIED:20231024T140916Z
UID:10002046-1809442800-1809446400@www.onestockport.co.uk
SUMMARY:Crochet\, knit and craft @ High Lane Library
DESCRIPTION:Bring along your knitting\, crochet or craft to this free drop-in.\nJoin our casual gathering and meet fellow makers\, have a brew and a chat.\nFrom expert to beginner. Everyone is welcome
URL:https://www.onestockport.co.uk/townofcultureevent/crochet-knit-and-craft-high-lane-library/2027-05-04/
LOCATION:High Lane Library Buxton Road High Lane Stockport SK6 8DX
CATEGORIES:Makes
ATTACH;FMTTYPE=image/png:https://www.onestockport.co.uk/wp-content/uploads/2023/10/Crochet-and-knit1.png
END:VEVENT
END:VCALENDAR