BEGIN:VCALENDAR
VERSION:2.0
PRODID:-//One Stockport - ECPv6.15.18//NONSGML v1.0//EN
CALSCALE:GREGORIAN
METHOD:PUBLISH
X-ORIGINAL-URL:https://www.onestockport.co.uk
X-WR-CALDESC:Events for One Stockport
REFRESH-INTERVAL;VALUE=DURATION:PT1H
X-Robots-Tag:noindex
X-PUBLISHED-TTL:PT1H
BEGIN:VTIMEZONE
TZID:Europe/London
BEGIN:DAYLIGHT
TZOFFSETFROM:+0000
TZOFFSETTO:+0100
TZNAME:BST
DTSTART:20240331T010000
END:DAYLIGHT
BEGIN:STANDARD
TZOFFSETFROM:+0100
TZOFFSETTO:+0000
TZNAME:GMT
DTSTART:20241027T010000
END:STANDARD
BEGIN:DAYLIGHT
TZOFFSETFROM:+0000
TZOFFSETTO:+0100
TZNAME:BST
DTSTART:20250330T010000
END:DAYLIGHT
BEGIN:STANDARD
TZOFFSETFROM:+0100
TZOFFSETTO:+0000
TZNAME:GMT
DTSTART:20251026T010000
END:STANDARD
BEGIN:DAYLIGHT
TZOFFSETFROM:+0000
TZOFFSETTO:+0100
TZNAME:BST
DTSTART:20260329T010000
END:DAYLIGHT
BEGIN:STANDARD
TZOFFSETFROM:+0100
TZOFFSETTO:+0000
TZNAME:GMT
DTSTART:20261025T010000
END:STANDARD
END:VTIMEZONE
BEGIN:VEVENT
DTSTART;TZID=Europe/London:20251104T150000
DTEND;TZID=Europe/London:20251104T160000
DTSTAMP:20260425T001810
CREATED:20231024T140916Z
LAST-MODIFIED:20231024T140916Z
UID:10001968-1762268400-1762272000@www.onestockport.co.uk
SUMMARY:Crochet\, knit and craft @ High Lane Library
DESCRIPTION:Bring along your knitting\, crochet or craft to this free drop-in.\nJoin our casual gathering and meet fellow makers\, have a brew and a chat.\nFrom expert to beginner. Everyone is welcome
URL:https://www.onestockport.co.uk/townofcultureevent/crochet-knit-and-craft-high-lane-library/2025-11-04/
LOCATION:High Lane Library Buxton Road High Lane Stockport SK6 8DX
CATEGORIES:Makes
ATTACH;FMTTYPE=image/png:https://www.onestockport.co.uk/wp-content/uploads/2023/10/Crochet-and-knit1.png
END:VEVENT
BEGIN:VEVENT
DTSTART;TZID=Europe/London:20251028T150000
DTEND;TZID=Europe/London:20251028T160000
DTSTAMP:20260425T001810
CREATED:20231024T140916Z
LAST-MODIFIED:20231024T140916Z
UID:10001967-1761663600-1761667200@www.onestockport.co.uk
SUMMARY:Crochet\, knit and craft @ High Lane Library
DESCRIPTION:Bring along your knitting\, crochet or craft to this free drop-in.\nJoin our casual gathering and meet fellow makers\, have a brew and a chat.\nFrom expert to beginner. Everyone is welcome
URL:https://www.onestockport.co.uk/townofcultureevent/crochet-knit-and-craft-high-lane-library/2025-10-28/
LOCATION:High Lane Library Buxton Road High Lane Stockport SK6 8DX
CATEGORIES:Makes
ATTACH;FMTTYPE=image/png:https://www.onestockport.co.uk/wp-content/uploads/2023/10/Crochet-and-knit1.png
END:VEVENT
BEGIN:VEVENT
DTSTART;TZID=Europe/London:20251021T150000
DTEND;TZID=Europe/London:20251021T160000
DTSTAMP:20260425T001810
CREATED:20231024T140916Z
LAST-MODIFIED:20231024T140916Z
UID:10001966-1761058800-1761062400@www.onestockport.co.uk
SUMMARY:Crochet\, knit and craft @ High Lane Library
DESCRIPTION:Bring along your knitting\, crochet or craft to this free drop-in.\nJoin our casual gathering and meet fellow makers\, have a brew and a chat.\nFrom expert to beginner. Everyone is welcome
URL:https://www.onestockport.co.uk/townofcultureevent/crochet-knit-and-craft-high-lane-library/2025-10-21/
LOCATION:High Lane Library Buxton Road High Lane Stockport SK6 8DX
CATEGORIES:Makes
ATTACH;FMTTYPE=image/png:https://www.onestockport.co.uk/wp-content/uploads/2023/10/Crochet-and-knit1.png
END:VEVENT
BEGIN:VEVENT
DTSTART;TZID=Europe/London:20251014T150000
DTEND;TZID=Europe/London:20251014T160000
DTSTAMP:20260425T001810
CREATED:20231024T140916Z
LAST-MODIFIED:20231024T140916Z
UID:10001965-1760454000-1760457600@www.onestockport.co.uk
SUMMARY:Crochet\, knit and craft @ High Lane Library
DESCRIPTION:Bring along your knitting\, crochet or craft to this free drop-in.\nJoin our casual gathering and meet fellow makers\, have a brew and a chat.\nFrom expert to beginner. Everyone is welcome
URL:https://www.onestockport.co.uk/townofcultureevent/crochet-knit-and-craft-high-lane-library/2025-10-14/
LOCATION:High Lane Library Buxton Road High Lane Stockport SK6 8DX
CATEGORIES:Makes
ATTACH;FMTTYPE=image/png:https://www.onestockport.co.uk/wp-content/uploads/2023/10/Crochet-and-knit1.png
END:VEVENT
BEGIN:VEVENT
DTSTART;TZID=Europe/London:20251007T150000
DTEND;TZID=Europe/London:20251007T160000
DTSTAMP:20260425T001810
CREATED:20231024T140916Z
LAST-MODIFIED:20231024T140916Z
UID:10001964-1759849200-1759852800@www.onestockport.co.uk
SUMMARY:Crochet\, knit and craft @ High Lane Library
DESCRIPTION:Bring along your knitting\, crochet or craft to this free drop-in.\nJoin our casual gathering and meet fellow makers\, have a brew and a chat.\nFrom expert to beginner. Everyone is welcome
URL:https://www.onestockport.co.uk/townofcultureevent/crochet-knit-and-craft-high-lane-library/2025-10-07/
LOCATION:High Lane Library Buxton Road High Lane Stockport SK6 8DX
CATEGORIES:Makes
ATTACH;FMTTYPE=image/png:https://www.onestockport.co.uk/wp-content/uploads/2023/10/Crochet-and-knit1.png
END:VEVENT
BEGIN:VEVENT
DTSTART;TZID=Europe/London:20250930T150000
DTEND;TZID=Europe/London:20250930T160000
DTSTAMP:20260425T001810
CREATED:20231024T140916Z
LAST-MODIFIED:20231024T140916Z
UID:10001963-1759244400-1759248000@www.onestockport.co.uk
SUMMARY:Crochet\, knit and craft @ High Lane Library
DESCRIPTION:Bring along your knitting\, crochet or craft to this free drop-in.\nJoin our casual gathering and meet fellow makers\, have a brew and a chat.\nFrom expert to beginner. Everyone is welcome
URL:https://www.onestockport.co.uk/townofcultureevent/crochet-knit-and-craft-high-lane-library/2025-09-30/
LOCATION:High Lane Library Buxton Road High Lane Stockport SK6 8DX
CATEGORIES:Makes
ATTACH;FMTTYPE=image/png:https://www.onestockport.co.uk/wp-content/uploads/2023/10/Crochet-and-knit1.png
END:VEVENT
BEGIN:VEVENT
DTSTART;TZID=Europe/London:20250923T150000
DTEND;TZID=Europe/London:20250923T160000
DTSTAMP:20260425T001810
CREATED:20231024T140916Z
LAST-MODIFIED:20231024T140916Z
UID:10001962-1758639600-1758643200@www.onestockport.co.uk
SUMMARY:Crochet\, knit and craft @ High Lane Library
DESCRIPTION:Bring along your knitting\, crochet or craft to this free drop-in.\nJoin our casual gathering and meet fellow makers\, have a brew and a chat.\nFrom expert to beginner. Everyone is welcome
URL:https://www.onestockport.co.uk/townofcultureevent/crochet-knit-and-craft-high-lane-library/2025-09-23/
LOCATION:High Lane Library Buxton Road High Lane Stockport SK6 8DX
CATEGORIES:Makes
ATTACH;FMTTYPE=image/png:https://www.onestockport.co.uk/wp-content/uploads/2023/10/Crochet-and-knit1.png
END:VEVENT
BEGIN:VEVENT
DTSTART;TZID=Europe/London:20250916T150000
DTEND;TZID=Europe/London:20250916T160000
DTSTAMP:20260425T001810
CREATED:20231024T140916Z
LAST-MODIFIED:20231024T140916Z
UID:10001961-1758034800-1758038400@www.onestockport.co.uk
SUMMARY:Crochet\, knit and craft @ High Lane Library
DESCRIPTION:Bring along your knitting\, crochet or craft to this free drop-in.\nJoin our casual gathering and meet fellow makers\, have a brew and a chat.\nFrom expert to beginner. Everyone is welcome
URL:https://www.onestockport.co.uk/townofcultureevent/crochet-knit-and-craft-high-lane-library/2025-09-16/
LOCATION:High Lane Library Buxton Road High Lane Stockport SK6 8DX
CATEGORIES:Makes
ATTACH;FMTTYPE=image/png:https://www.onestockport.co.uk/wp-content/uploads/2023/10/Crochet-and-knit1.png
END:VEVENT
BEGIN:VEVENT
DTSTART;TZID=Europe/London:20250909T150000
DTEND;TZID=Europe/London:20250909T160000
DTSTAMP:20260425T001810
CREATED:20231024T140916Z
LAST-MODIFIED:20231024T140916Z
UID:10001960-1757430000-1757433600@www.onestockport.co.uk
SUMMARY:Crochet\, knit and craft @ High Lane Library
DESCRIPTION:Bring along your knitting\, crochet or craft to this free drop-in.\nJoin our casual gathering and meet fellow makers\, have a brew and a chat.\nFrom expert to beginner. Everyone is welcome
URL:https://www.onestockport.co.uk/townofcultureevent/crochet-knit-and-craft-high-lane-library/2025-09-09/
LOCATION:High Lane Library Buxton Road High Lane Stockport SK6 8DX
CATEGORIES:Makes
ATTACH;FMTTYPE=image/png:https://www.onestockport.co.uk/wp-content/uploads/2023/10/Crochet-and-knit1.png
END:VEVENT
BEGIN:VEVENT
DTSTART;TZID=Europe/London:20250902T150000
DTEND;TZID=Europe/London:20250902T160000
DTSTAMP:20260425T001810
CREATED:20231024T140916Z
LAST-MODIFIED:20231024T140916Z
UID:10001959-1756825200-1756828800@www.onestockport.co.uk
SUMMARY:Crochet\, knit and craft @ High Lane Library
DESCRIPTION:Bring along your knitting\, crochet or craft to this free drop-in.\nJoin our casual gathering and meet fellow makers\, have a brew and a chat.\nFrom expert to beginner. Everyone is welcome
URL:https://www.onestockport.co.uk/townofcultureevent/crochet-knit-and-craft-high-lane-library/2025-09-02/
LOCATION:High Lane Library Buxton Road High Lane Stockport SK6 8DX
CATEGORIES:Makes
ATTACH;FMTTYPE=image/png:https://www.onestockport.co.uk/wp-content/uploads/2023/10/Crochet-and-knit1.png
END:VEVENT
BEGIN:VEVENT
DTSTART;TZID=Europe/London:20250826T150000
DTEND;TZID=Europe/London:20250826T160000
DTSTAMP:20260425T001810
CREATED:20231024T140916Z
LAST-MODIFIED:20231024T140916Z
UID:10001958-1756220400-1756224000@www.onestockport.co.uk
SUMMARY:Crochet\, knit and craft @ High Lane Library
DESCRIPTION:Bring along your knitting\, crochet or craft to this free drop-in.\nJoin our casual gathering and meet fellow makers\, have a brew and a chat.\nFrom expert to beginner. Everyone is welcome
URL:https://www.onestockport.co.uk/townofcultureevent/crochet-knit-and-craft-high-lane-library/2025-08-26/
LOCATION:High Lane Library Buxton Road High Lane Stockport SK6 8DX
CATEGORIES:Makes
ATTACH;FMTTYPE=image/png:https://www.onestockport.co.uk/wp-content/uploads/2023/10/Crochet-and-knit1.png
END:VEVENT
BEGIN:VEVENT
DTSTART;TZID=Europe/London:20250819T150000
DTEND;TZID=Europe/London:20250819T160000
DTSTAMP:20260425T001810
CREATED:20231024T140916Z
LAST-MODIFIED:20231024T140916Z
UID:10001957-1755615600-1755619200@www.onestockport.co.uk
SUMMARY:Crochet\, knit and craft @ High Lane Library
DESCRIPTION:Bring along your knitting\, crochet or craft to this free drop-in.\nJoin our casual gathering and meet fellow makers\, have a brew and a chat.\nFrom expert to beginner. Everyone is welcome
URL:https://www.onestockport.co.uk/townofcultureevent/crochet-knit-and-craft-high-lane-library/2025-08-19/
LOCATION:High Lane Library Buxton Road High Lane Stockport SK6 8DX
CATEGORIES:Makes
ATTACH;FMTTYPE=image/png:https://www.onestockport.co.uk/wp-content/uploads/2023/10/Crochet-and-knit1.png
END:VEVENT
BEGIN:VEVENT
DTSTART;TZID=Europe/London:20250812T150000
DTEND;TZID=Europe/London:20250812T160000
DTSTAMP:20260425T001810
CREATED:20231024T140916Z
LAST-MODIFIED:20231024T140916Z
UID:10001956-1755010800-1755014400@www.onestockport.co.uk
SUMMARY:Crochet\, knit and craft @ High Lane Library
DESCRIPTION:Bring along your knitting\, crochet or craft to this free drop-in.\nJoin our casual gathering and meet fellow makers\, have a brew and a chat.\nFrom expert to beginner. Everyone is welcome
URL:https://www.onestockport.co.uk/townofcultureevent/crochet-knit-and-craft-high-lane-library/2025-08-12/
LOCATION:High Lane Library Buxton Road High Lane Stockport SK6 8DX
CATEGORIES:Makes
ATTACH;FMTTYPE=image/png:https://www.onestockport.co.uk/wp-content/uploads/2023/10/Crochet-and-knit1.png
END:VEVENT
BEGIN:VEVENT
DTSTART;TZID=Europe/London:20250805T150000
DTEND;TZID=Europe/London:20250805T160000
DTSTAMP:20260425T001810
CREATED:20231024T140916Z
LAST-MODIFIED:20231024T140916Z
UID:10001955-1754406000-1754409600@www.onestockport.co.uk
SUMMARY:Crochet\, knit and craft @ High Lane Library
DESCRIPTION:Bring along your knitting\, crochet or craft to this free drop-in.\nJoin our casual gathering and meet fellow makers\, have a brew and a chat.\nFrom expert to beginner. Everyone is welcome
URL:https://www.onestockport.co.uk/townofcultureevent/crochet-knit-and-craft-high-lane-library/2025-08-05/
LOCATION:High Lane Library Buxton Road High Lane Stockport SK6 8DX
CATEGORIES:Makes
ATTACH;FMTTYPE=image/png:https://www.onestockport.co.uk/wp-content/uploads/2023/10/Crochet-and-knit1.png
END:VEVENT
BEGIN:VEVENT
DTSTART;TZID=Europe/London:20250729T150000
DTEND;TZID=Europe/London:20250729T160000
DTSTAMP:20260425T001810
CREATED:20231024T140916Z
LAST-MODIFIED:20231024T140916Z
UID:10001954-1753801200-1753804800@www.onestockport.co.uk
SUMMARY:Crochet\, knit and craft @ High Lane Library
DESCRIPTION:Bring along your knitting\, crochet or craft to this free drop-in.\nJoin our casual gathering and meet fellow makers\, have a brew and a chat.\nFrom expert to beginner. Everyone is welcome
URL:https://www.onestockport.co.uk/townofcultureevent/crochet-knit-and-craft-high-lane-library/2025-07-29/
LOCATION:High Lane Library Buxton Road High Lane Stockport SK6 8DX
CATEGORIES:Makes
ATTACH;FMTTYPE=image/png:https://www.onestockport.co.uk/wp-content/uploads/2023/10/Crochet-and-knit1.png
END:VEVENT
BEGIN:VEVENT
DTSTART;TZID=Europe/London:20250722T150000
DTEND;TZID=Europe/London:20250722T160000
DTSTAMP:20260425T001810
CREATED:20231024T140916Z
LAST-MODIFIED:20231024T140916Z
UID:10001953-1753196400-1753200000@www.onestockport.co.uk
SUMMARY:Crochet\, knit and craft @ High Lane Library
DESCRIPTION:Bring along your knitting\, crochet or craft to this free drop-in.\nJoin our casual gathering and meet fellow makers\, have a brew and a chat.\nFrom expert to beginner. Everyone is welcome
URL:https://www.onestockport.co.uk/townofcultureevent/crochet-knit-and-craft-high-lane-library/2025-07-22/
LOCATION:High Lane Library Buxton Road High Lane Stockport SK6 8DX
CATEGORIES:Makes
ATTACH;FMTTYPE=image/png:https://www.onestockport.co.uk/wp-content/uploads/2023/10/Crochet-and-knit1.png
END:VEVENT
BEGIN:VEVENT
DTSTART;TZID=Europe/London:20250715T150000
DTEND;TZID=Europe/London:20250715T160000
DTSTAMP:20260425T001810
CREATED:20231024T140916Z
LAST-MODIFIED:20231024T140916Z
UID:10001952-1752591600-1752595200@www.onestockport.co.uk
SUMMARY:Crochet\, knit and craft @ High Lane Library
DESCRIPTION:Bring along your knitting\, crochet or craft to this free drop-in.\nJoin our casual gathering and meet fellow makers\, have a brew and a chat.\nFrom expert to beginner. Everyone is welcome
URL:https://www.onestockport.co.uk/townofcultureevent/crochet-knit-and-craft-high-lane-library/2025-07-15/
LOCATION:High Lane Library Buxton Road High Lane Stockport SK6 8DX
CATEGORIES:Makes
ATTACH;FMTTYPE=image/png:https://www.onestockport.co.uk/wp-content/uploads/2023/10/Crochet-and-knit1.png
END:VEVENT
BEGIN:VEVENT
DTSTART;TZID=Europe/London:20250708T150000
DTEND;TZID=Europe/London:20250708T160000
DTSTAMP:20260425T001810
CREATED:20231024T140916Z
LAST-MODIFIED:20231024T140916Z
UID:10001951-1751986800-1751990400@www.onestockport.co.uk
SUMMARY:Crochet\, knit and craft @ High Lane Library
DESCRIPTION:Bring along your knitting\, crochet or craft to this free drop-in.\nJoin our casual gathering and meet fellow makers\, have a brew and a chat.\nFrom expert to beginner. Everyone is welcome
URL:https://www.onestockport.co.uk/townofcultureevent/crochet-knit-and-craft-high-lane-library/2025-07-08/
LOCATION:High Lane Library Buxton Road High Lane Stockport SK6 8DX
CATEGORIES:Makes
ATTACH;FMTTYPE=image/png:https://www.onestockport.co.uk/wp-content/uploads/2023/10/Crochet-and-knit1.png
END:VEVENT
BEGIN:VEVENT
DTSTART;TZID=Europe/London:20250701T150000
DTEND;TZID=Europe/London:20250701T160000
DTSTAMP:20260425T001810
CREATED:20231024T140916Z
LAST-MODIFIED:20231024T140916Z
UID:10001950-1751382000-1751385600@www.onestockport.co.uk
SUMMARY:Crochet\, knit and craft @ High Lane Library
DESCRIPTION:Bring along your knitting\, crochet or craft to this free drop-in.\nJoin our casual gathering and meet fellow makers\, have a brew and a chat.\nFrom expert to beginner. Everyone is welcome
URL:https://www.onestockport.co.uk/townofcultureevent/crochet-knit-and-craft-high-lane-library/2025-07-01/
LOCATION:High Lane Library Buxton Road High Lane Stockport SK6 8DX
CATEGORIES:Makes
ATTACH;FMTTYPE=image/png:https://www.onestockport.co.uk/wp-content/uploads/2023/10/Crochet-and-knit1.png
END:VEVENT
BEGIN:VEVENT
DTSTART;TZID=Europe/London:20250624T150000
DTEND;TZID=Europe/London:20250624T160000
DTSTAMP:20260425T001810
CREATED:20231024T140916Z
LAST-MODIFIED:20231024T140916Z
UID:10001949-1750777200-1750780800@www.onestockport.co.uk
SUMMARY:Crochet\, knit and craft @ High Lane Library
DESCRIPTION:Bring along your knitting\, crochet or craft to this free drop-in.\nJoin our casual gathering and meet fellow makers\, have a brew and a chat.\nFrom expert to beginner. Everyone is welcome
URL:https://www.onestockport.co.uk/townofcultureevent/crochet-knit-and-craft-high-lane-library/2025-06-24/
LOCATION:High Lane Library Buxton Road High Lane Stockport SK6 8DX
CATEGORIES:Makes
ATTACH;FMTTYPE=image/png:https://www.onestockport.co.uk/wp-content/uploads/2023/10/Crochet-and-knit1.png
END:VEVENT
BEGIN:VEVENT
DTSTART;TZID=Europe/London:20250617T150000
DTEND;TZID=Europe/London:20250617T160000
DTSTAMP:20260425T001810
CREATED:20231024T140916Z
LAST-MODIFIED:20231024T140916Z
UID:10001948-1750172400-1750176000@www.onestockport.co.uk
SUMMARY:Crochet\, knit and craft @ High Lane Library
DESCRIPTION:Bring along your knitting\, crochet or craft to this free drop-in.\nJoin our casual gathering and meet fellow makers\, have a brew and a chat.\nFrom expert to beginner. Everyone is welcome
URL:https://www.onestockport.co.uk/townofcultureevent/crochet-knit-and-craft-high-lane-library/2025-06-17/
LOCATION:High Lane Library Buxton Road High Lane Stockport SK6 8DX
CATEGORIES:Makes
ATTACH;FMTTYPE=image/png:https://www.onestockport.co.uk/wp-content/uploads/2023/10/Crochet-and-knit1.png
END:VEVENT
BEGIN:VEVENT
DTSTART;TZID=Europe/London:20250610T150000
DTEND;TZID=Europe/London:20250610T160000
DTSTAMP:20260425T001810
CREATED:20231024T140916Z
LAST-MODIFIED:20231024T140916Z
UID:10001947-1749567600-1749571200@www.onestockport.co.uk
SUMMARY:Crochet\, knit and craft @ High Lane Library
DESCRIPTION:Bring along your knitting\, crochet or craft to this free drop-in.\nJoin our casual gathering and meet fellow makers\, have a brew and a chat.\nFrom expert to beginner. Everyone is welcome
URL:https://www.onestockport.co.uk/townofcultureevent/crochet-knit-and-craft-high-lane-library/2025-06-10/
LOCATION:High Lane Library Buxton Road High Lane Stockport SK6 8DX
CATEGORIES:Makes
ATTACH;FMTTYPE=image/png:https://www.onestockport.co.uk/wp-content/uploads/2023/10/Crochet-and-knit1.png
END:VEVENT
BEGIN:VEVENT
DTSTART;TZID=Europe/London:20250603T150000
DTEND;TZID=Europe/London:20250603T160000
DTSTAMP:20260425T001810
CREATED:20231024T140916Z
LAST-MODIFIED:20231024T140916Z
UID:10001946-1748962800-1748966400@www.onestockport.co.uk
SUMMARY:Crochet\, knit and craft @ High Lane Library
DESCRIPTION:Bring along your knitting\, crochet or craft to this free drop-in.\nJoin our casual gathering and meet fellow makers\, have a brew and a chat.\nFrom expert to beginner. Everyone is welcome
URL:https://www.onestockport.co.uk/townofcultureevent/crochet-knit-and-craft-high-lane-library/2025-06-03/
LOCATION:High Lane Library Buxton Road High Lane Stockport SK6 8DX
CATEGORIES:Makes
ATTACH;FMTTYPE=image/png:https://www.onestockport.co.uk/wp-content/uploads/2023/10/Crochet-and-knit1.png
END:VEVENT
BEGIN:VEVENT
DTSTART;TZID=Europe/London:20250527T150000
DTEND;TZID=Europe/London:20250527T160000
DTSTAMP:20260425T001810
CREATED:20231024T140916Z
LAST-MODIFIED:20231024T140916Z
UID:10001945-1748358000-1748361600@www.onestockport.co.uk
SUMMARY:Crochet\, knit and craft @ High Lane Library
DESCRIPTION:Bring along your knitting\, crochet or craft to this free drop-in.\nJoin our casual gathering and meet fellow makers\, have a brew and a chat.\nFrom expert to beginner. Everyone is welcome
URL:https://www.onestockport.co.uk/townofcultureevent/crochet-knit-and-craft-high-lane-library/2025-05-27/
LOCATION:High Lane Library Buxton Road High Lane Stockport SK6 8DX
CATEGORIES:Makes
ATTACH;FMTTYPE=image/png:https://www.onestockport.co.uk/wp-content/uploads/2023/10/Crochet-and-knit1.png
END:VEVENT
BEGIN:VEVENT
DTSTART;TZID=Europe/London:20250520T150000
DTEND;TZID=Europe/London:20250520T160000
DTSTAMP:20260425T001810
CREATED:20231024T140916Z
LAST-MODIFIED:20231024T140916Z
UID:10001944-1747753200-1747756800@www.onestockport.co.uk
SUMMARY:Crochet\, knit and craft @ High Lane Library
DESCRIPTION:Bring along your knitting\, crochet or craft to this free drop-in.\nJoin our casual gathering and meet fellow makers\, have a brew and a chat.\nFrom expert to beginner. Everyone is welcome
URL:https://www.onestockport.co.uk/townofcultureevent/crochet-knit-and-craft-high-lane-library/2025-05-20/
LOCATION:High Lane Library Buxton Road High Lane Stockport SK6 8DX
CATEGORIES:Makes
ATTACH;FMTTYPE=image/png:https://www.onestockport.co.uk/wp-content/uploads/2023/10/Crochet-and-knit1.png
END:VEVENT
BEGIN:VEVENT
DTSTART;TZID=Europe/London:20250513T150000
DTEND;TZID=Europe/London:20250513T160000
DTSTAMP:20260425T001810
CREATED:20231024T140916Z
LAST-MODIFIED:20231024T140916Z
UID:10001943-1747148400-1747152000@www.onestockport.co.uk
SUMMARY:Crochet\, knit and craft @ High Lane Library
DESCRIPTION:Bring along your knitting\, crochet or craft to this free drop-in.\nJoin our casual gathering and meet fellow makers\, have a brew and a chat.\nFrom expert to beginner. Everyone is welcome
URL:https://www.onestockport.co.uk/townofcultureevent/crochet-knit-and-craft-high-lane-library/2025-05-13/
LOCATION:High Lane Library Buxton Road High Lane Stockport SK6 8DX
CATEGORIES:Makes
ATTACH;FMTTYPE=image/png:https://www.onestockport.co.uk/wp-content/uploads/2023/10/Crochet-and-knit1.png
END:VEVENT
BEGIN:VEVENT
DTSTART;TZID=Europe/London:20250506T150000
DTEND;TZID=Europe/London:20250506T160000
DTSTAMP:20260425T001810
CREATED:20231024T140916Z
LAST-MODIFIED:20231024T140916Z
UID:10001942-1746543600-1746547200@www.onestockport.co.uk
SUMMARY:Crochet\, knit and craft @ High Lane Library
DESCRIPTION:Bring along your knitting\, crochet or craft to this free drop-in.\nJoin our casual gathering and meet fellow makers\, have a brew and a chat.\nFrom expert to beginner. Everyone is welcome
URL:https://www.onestockport.co.uk/townofcultureevent/crochet-knit-and-craft-high-lane-library/2025-05-06/
LOCATION:High Lane Library Buxton Road High Lane Stockport SK6 8DX
CATEGORIES:Makes
ATTACH;FMTTYPE=image/png:https://www.onestockport.co.uk/wp-content/uploads/2023/10/Crochet-and-knit1.png
END:VEVENT
BEGIN:VEVENT
DTSTART;TZID=Europe/London:20250429T150000
DTEND;TZID=Europe/London:20250429T160000
DTSTAMP:20260425T001810
CREATED:20231024T140916Z
LAST-MODIFIED:20231024T140916Z
UID:10001941-1745938800-1745942400@www.onestockport.co.uk
SUMMARY:Crochet\, knit and craft @ High Lane Library
DESCRIPTION:Bring along your knitting\, crochet or craft to this free drop-in.\nJoin our casual gathering and meet fellow makers\, have a brew and a chat.\nFrom expert to beginner. Everyone is welcome
URL:https://www.onestockport.co.uk/townofcultureevent/crochet-knit-and-craft-high-lane-library/2025-04-29/
LOCATION:High Lane Library Buxton Road High Lane Stockport SK6 8DX
CATEGORIES:Makes
ATTACH;FMTTYPE=image/png:https://www.onestockport.co.uk/wp-content/uploads/2023/10/Crochet-and-knit1.png
END:VEVENT
BEGIN:VEVENT
DTSTART;TZID=Europe/London:20250422T150000
DTEND;TZID=Europe/London:20250422T160000
DTSTAMP:20260425T001810
CREATED:20231024T140916Z
LAST-MODIFIED:20231024T140916Z
UID:10001940-1745334000-1745337600@www.onestockport.co.uk
SUMMARY:Crochet\, knit and craft @ High Lane Library
DESCRIPTION:Bring along your knitting\, crochet or craft to this free drop-in.\nJoin our casual gathering and meet fellow makers\, have a brew and a chat.\nFrom expert to beginner. Everyone is welcome
URL:https://www.onestockport.co.uk/townofcultureevent/crochet-knit-and-craft-high-lane-library/2025-04-22/
LOCATION:High Lane Library Buxton Road High Lane Stockport SK6 8DX
CATEGORIES:Makes
ATTACH;FMTTYPE=image/png:https://www.onestockport.co.uk/wp-content/uploads/2023/10/Crochet-and-knit1.png
END:VEVENT
BEGIN:VEVENT
DTSTART;TZID=Europe/London:20250415T150000
DTEND;TZID=Europe/London:20250415T160000
DTSTAMP:20260425T001810
CREATED:20231024T140916Z
LAST-MODIFIED:20231024T140916Z
UID:10001939-1744729200-1744732800@www.onestockport.co.uk
SUMMARY:Crochet\, knit and craft @ High Lane Library
DESCRIPTION:Bring along your knitting\, crochet or craft to this free drop-in.\nJoin our casual gathering and meet fellow makers\, have a brew and a chat.\nFrom expert to beginner. Everyone is welcome
URL:https://www.onestockport.co.uk/townofcultureevent/crochet-knit-and-craft-high-lane-library/2025-04-15/
LOCATION:High Lane Library Buxton Road High Lane Stockport SK6 8DX
CATEGORIES:Makes
ATTACH;FMTTYPE=image/png:https://www.onestockport.co.uk/wp-content/uploads/2023/10/Crochet-and-knit1.png
END:VEVENT
END:VCALENDAR