BEGIN:VCALENDAR
VERSION:2.0
PRODID:-//One Stockport - ECPv6.15.18//NONSGML v1.0//EN
CALSCALE:GREGORIAN
METHOD:PUBLISH
X-ORIGINAL-URL:https://www.onestockport.co.uk
X-WR-CALDESC:Events for One Stockport
REFRESH-INTERVAL;VALUE=DURATION:PT1H
X-Robots-Tag:noindex
X-PUBLISHED-TTL:PT1H
BEGIN:VTIMEZONE
TZID:Europe/London
BEGIN:DAYLIGHT
TZOFFSETFROM:+0000
TZOFFSETTO:+0100
TZNAME:BST
DTSTART:20250330T010000
END:DAYLIGHT
BEGIN:STANDARD
TZOFFSETFROM:+0100
TZOFFSETTO:+0000
TZNAME:GMT
DTSTART:20251026T010000
END:STANDARD
BEGIN:DAYLIGHT
TZOFFSETFROM:+0000
TZOFFSETTO:+0100
TZNAME:BST
DTSTART:20260329T010000
END:DAYLIGHT
BEGIN:STANDARD
TZOFFSETFROM:+0100
TZOFFSETTO:+0000
TZNAME:GMT
DTSTART:20261025T010000
END:STANDARD
BEGIN:DAYLIGHT
TZOFFSETFROM:+0000
TZOFFSETTO:+0100
TZNAME:BST
DTSTART:20270328T010000
END:DAYLIGHT
BEGIN:STANDARD
TZOFFSETFROM:+0100
TZOFFSETTO:+0000
TZNAME:GMT
DTSTART:20271031T010000
END:STANDARD
END:VTIMEZONE
BEGIN:VEVENT
DTSTART;TZID=Europe/London:20260428T150000
DTEND;TZID=Europe/London:20260428T160000
DTSTAMP:20260424T201618
CREATED:20231024T140916Z
LAST-MODIFIED:20231024T140916Z
UID:10001993-1777388400-1777392000@www.onestockport.co.uk
SUMMARY:Crochet\, knit and craft @ High Lane Library
DESCRIPTION:Bring along your knitting\, crochet or craft to this free drop-in.\nJoin our casual gathering and meet fellow makers\, have a brew and a chat.\nFrom expert to beginner. Everyone is welcome
URL:https://www.onestockport.co.uk/townofcultureevent/crochet-knit-and-craft-high-lane-library/2026-04-28/
LOCATION:High Lane Library Buxton Road High Lane Stockport SK6 8DX
CATEGORIES:Makes
ATTACH;FMTTYPE=image/png:https://www.onestockport.co.uk/wp-content/uploads/2023/10/Crochet-and-knit1.png
END:VEVENT
BEGIN:VEVENT
DTSTART;TZID=Europe/London:20260505T150000
DTEND;TZID=Europe/London:20260505T160000
DTSTAMP:20260424T201618
CREATED:20231024T140916Z
LAST-MODIFIED:20231024T140916Z
UID:10001994-1777993200-1777996800@www.onestockport.co.uk
SUMMARY:Crochet\, knit and craft @ High Lane Library
DESCRIPTION:Bring along your knitting\, crochet or craft to this free drop-in.\nJoin our casual gathering and meet fellow makers\, have a brew and a chat.\nFrom expert to beginner. Everyone is welcome
URL:https://www.onestockport.co.uk/townofcultureevent/crochet-knit-and-craft-high-lane-library/2026-05-05/
LOCATION:High Lane Library Buxton Road High Lane Stockport SK6 8DX
CATEGORIES:Makes
ATTACH;FMTTYPE=image/png:https://www.onestockport.co.uk/wp-content/uploads/2023/10/Crochet-and-knit1.png
END:VEVENT
BEGIN:VEVENT
DTSTART;TZID=Europe/London:20260512T150000
DTEND;TZID=Europe/London:20260512T160000
DTSTAMP:20260424T201618
CREATED:20231024T140916Z
LAST-MODIFIED:20231024T140916Z
UID:10001995-1778598000-1778601600@www.onestockport.co.uk
SUMMARY:Crochet\, knit and craft @ High Lane Library
DESCRIPTION:Bring along your knitting\, crochet or craft to this free drop-in.\nJoin our casual gathering and meet fellow makers\, have a brew and a chat.\nFrom expert to beginner. Everyone is welcome
URL:https://www.onestockport.co.uk/townofcultureevent/crochet-knit-and-craft-high-lane-library/2026-05-12/
LOCATION:High Lane Library Buxton Road High Lane Stockport SK6 8DX
CATEGORIES:Makes
ATTACH;FMTTYPE=image/png:https://www.onestockport.co.uk/wp-content/uploads/2023/10/Crochet-and-knit1.png
END:VEVENT
BEGIN:VEVENT
DTSTART;TZID=Europe/London:20260519T150000
DTEND;TZID=Europe/London:20260519T160000
DTSTAMP:20260424T201618
CREATED:20231024T140916Z
LAST-MODIFIED:20231024T140916Z
UID:10001996-1779202800-1779206400@www.onestockport.co.uk
SUMMARY:Crochet\, knit and craft @ High Lane Library
DESCRIPTION:Bring along your knitting\, crochet or craft to this free drop-in.\nJoin our casual gathering and meet fellow makers\, have a brew and a chat.\nFrom expert to beginner. Everyone is welcome
URL:https://www.onestockport.co.uk/townofcultureevent/crochet-knit-and-craft-high-lane-library/2026-05-19/
LOCATION:High Lane Library Buxton Road High Lane Stockport SK6 8DX
CATEGORIES:Makes
ATTACH;FMTTYPE=image/png:https://www.onestockport.co.uk/wp-content/uploads/2023/10/Crochet-and-knit1.png
END:VEVENT
BEGIN:VEVENT
DTSTART;TZID=Europe/London:20260526T150000
DTEND;TZID=Europe/London:20260526T160000
DTSTAMP:20260424T201618
CREATED:20231024T140916Z
LAST-MODIFIED:20231024T140916Z
UID:10001997-1779807600-1779811200@www.onestockport.co.uk
SUMMARY:Crochet\, knit and craft @ High Lane Library
DESCRIPTION:Bring along your knitting\, crochet or craft to this free drop-in.\nJoin our casual gathering and meet fellow makers\, have a brew and a chat.\nFrom expert to beginner. Everyone is welcome
URL:https://www.onestockport.co.uk/townofcultureevent/crochet-knit-and-craft-high-lane-library/2026-05-26/
LOCATION:High Lane Library Buxton Road High Lane Stockport SK6 8DX
CATEGORIES:Makes
ATTACH;FMTTYPE=image/png:https://www.onestockport.co.uk/wp-content/uploads/2023/10/Crochet-and-knit1.png
END:VEVENT
BEGIN:VEVENT
DTSTART;TZID=Europe/London:20260602T150000
DTEND;TZID=Europe/London:20260602T160000
DTSTAMP:20260424T201618
CREATED:20231024T140916Z
LAST-MODIFIED:20231024T140916Z
UID:10001998-1780412400-1780416000@www.onestockport.co.uk
SUMMARY:Crochet\, knit and craft @ High Lane Library
DESCRIPTION:Bring along your knitting\, crochet or craft to this free drop-in.\nJoin our casual gathering and meet fellow makers\, have a brew and a chat.\nFrom expert to beginner. Everyone is welcome
URL:https://www.onestockport.co.uk/townofcultureevent/crochet-knit-and-craft-high-lane-library/2026-06-02/
LOCATION:High Lane Library Buxton Road High Lane Stockport SK6 8DX
CATEGORIES:Makes
ATTACH;FMTTYPE=image/png:https://www.onestockport.co.uk/wp-content/uploads/2023/10/Crochet-and-knit1.png
END:VEVENT
BEGIN:VEVENT
DTSTART;TZID=Europe/London:20260609T150000
DTEND;TZID=Europe/London:20260609T160000
DTSTAMP:20260424T201618
CREATED:20231024T140916Z
LAST-MODIFIED:20231024T140916Z
UID:10001999-1781017200-1781020800@www.onestockport.co.uk
SUMMARY:Crochet\, knit and craft @ High Lane Library
DESCRIPTION:Bring along your knitting\, crochet or craft to this free drop-in.\nJoin our casual gathering and meet fellow makers\, have a brew and a chat.\nFrom expert to beginner. Everyone is welcome
URL:https://www.onestockport.co.uk/townofcultureevent/crochet-knit-and-craft-high-lane-library/2026-06-09/
LOCATION:High Lane Library Buxton Road High Lane Stockport SK6 8DX
CATEGORIES:Makes
ATTACH;FMTTYPE=image/png:https://www.onestockport.co.uk/wp-content/uploads/2023/10/Crochet-and-knit1.png
END:VEVENT
BEGIN:VEVENT
DTSTART;TZID=Europe/London:20260616T150000
DTEND;TZID=Europe/London:20260616T160000
DTSTAMP:20260424T201618
CREATED:20231024T140916Z
LAST-MODIFIED:20231024T140916Z
UID:10002000-1781622000-1781625600@www.onestockport.co.uk
SUMMARY:Crochet\, knit and craft @ High Lane Library
DESCRIPTION:Bring along your knitting\, crochet or craft to this free drop-in.\nJoin our casual gathering and meet fellow makers\, have a brew and a chat.\nFrom expert to beginner. Everyone is welcome
URL:https://www.onestockport.co.uk/townofcultureevent/crochet-knit-and-craft-high-lane-library/2026-06-16/
LOCATION:High Lane Library Buxton Road High Lane Stockport SK6 8DX
CATEGORIES:Makes
ATTACH;FMTTYPE=image/png:https://www.onestockport.co.uk/wp-content/uploads/2023/10/Crochet-and-knit1.png
END:VEVENT
BEGIN:VEVENT
DTSTART;TZID=Europe/London:20260623T150000
DTEND;TZID=Europe/London:20260623T160000
DTSTAMP:20260424T201618
CREATED:20231024T140916Z
LAST-MODIFIED:20231024T140916Z
UID:10002001-1782226800-1782230400@www.onestockport.co.uk
SUMMARY:Crochet\, knit and craft @ High Lane Library
DESCRIPTION:Bring along your knitting\, crochet or craft to this free drop-in.\nJoin our casual gathering and meet fellow makers\, have a brew and a chat.\nFrom expert to beginner. Everyone is welcome
URL:https://www.onestockport.co.uk/townofcultureevent/crochet-knit-and-craft-high-lane-library/2026-06-23/
LOCATION:High Lane Library Buxton Road High Lane Stockport SK6 8DX
CATEGORIES:Makes
ATTACH;FMTTYPE=image/png:https://www.onestockport.co.uk/wp-content/uploads/2023/10/Crochet-and-knit1.png
END:VEVENT
BEGIN:VEVENT
DTSTART;TZID=Europe/London:20260630T150000
DTEND;TZID=Europe/London:20260630T160000
DTSTAMP:20260424T201618
CREATED:20231024T140916Z
LAST-MODIFIED:20231024T140916Z
UID:10002002-1782831600-1782835200@www.onestockport.co.uk
SUMMARY:Crochet\, knit and craft @ High Lane Library
DESCRIPTION:Bring along your knitting\, crochet or craft to this free drop-in.\nJoin our casual gathering and meet fellow makers\, have a brew and a chat.\nFrom expert to beginner. Everyone is welcome
URL:https://www.onestockport.co.uk/townofcultureevent/crochet-knit-and-craft-high-lane-library/2026-06-30/
LOCATION:High Lane Library Buxton Road High Lane Stockport SK6 8DX
CATEGORIES:Makes
ATTACH;FMTTYPE=image/png:https://www.onestockport.co.uk/wp-content/uploads/2023/10/Crochet-and-knit1.png
END:VEVENT
BEGIN:VEVENT
DTSTART;TZID=Europe/London:20260707T150000
DTEND;TZID=Europe/London:20260707T160000
DTSTAMP:20260424T201618
CREATED:20231024T140916Z
LAST-MODIFIED:20231024T140916Z
UID:10002003-1783436400-1783440000@www.onestockport.co.uk
SUMMARY:Crochet\, knit and craft @ High Lane Library
DESCRIPTION:Bring along your knitting\, crochet or craft to this free drop-in.\nJoin our casual gathering and meet fellow makers\, have a brew and a chat.\nFrom expert to beginner. Everyone is welcome
URL:https://www.onestockport.co.uk/townofcultureevent/crochet-knit-and-craft-high-lane-library/2026-07-07/
LOCATION:High Lane Library Buxton Road High Lane Stockport SK6 8DX
CATEGORIES:Makes
ATTACH;FMTTYPE=image/png:https://www.onestockport.co.uk/wp-content/uploads/2023/10/Crochet-and-knit1.png
END:VEVENT
BEGIN:VEVENT
DTSTART;TZID=Europe/London:20260714T150000
DTEND;TZID=Europe/London:20260714T160000
DTSTAMP:20260424T201618
CREATED:20231024T140916Z
LAST-MODIFIED:20231024T140916Z
UID:10002004-1784041200-1784044800@www.onestockport.co.uk
SUMMARY:Crochet\, knit and craft @ High Lane Library
DESCRIPTION:Bring along your knitting\, crochet or craft to this free drop-in.\nJoin our casual gathering and meet fellow makers\, have a brew and a chat.\nFrom expert to beginner. Everyone is welcome
URL:https://www.onestockport.co.uk/townofcultureevent/crochet-knit-and-craft-high-lane-library/2026-07-14/
LOCATION:High Lane Library Buxton Road High Lane Stockport SK6 8DX
CATEGORIES:Makes
ATTACH;FMTTYPE=image/png:https://www.onestockport.co.uk/wp-content/uploads/2023/10/Crochet-and-knit1.png
END:VEVENT
BEGIN:VEVENT
DTSTART;TZID=Europe/London:20260721T150000
DTEND;TZID=Europe/London:20260721T160000
DTSTAMP:20260424T201618
CREATED:20231024T140916Z
LAST-MODIFIED:20231024T140916Z
UID:10002005-1784646000-1784649600@www.onestockport.co.uk
SUMMARY:Crochet\, knit and craft @ High Lane Library
DESCRIPTION:Bring along your knitting\, crochet or craft to this free drop-in.\nJoin our casual gathering and meet fellow makers\, have a brew and a chat.\nFrom expert to beginner. Everyone is welcome
URL:https://www.onestockport.co.uk/townofcultureevent/crochet-knit-and-craft-high-lane-library/2026-07-21/
LOCATION:High Lane Library Buxton Road High Lane Stockport SK6 8DX
CATEGORIES:Makes
ATTACH;FMTTYPE=image/png:https://www.onestockport.co.uk/wp-content/uploads/2023/10/Crochet-and-knit1.png
END:VEVENT
BEGIN:VEVENT
DTSTART;TZID=Europe/London:20260728T150000
DTEND;TZID=Europe/London:20260728T160000
DTSTAMP:20260424T201618
CREATED:20231024T140916Z
LAST-MODIFIED:20231024T140916Z
UID:10002006-1785250800-1785254400@www.onestockport.co.uk
SUMMARY:Crochet\, knit and craft @ High Lane Library
DESCRIPTION:Bring along your knitting\, crochet or craft to this free drop-in.\nJoin our casual gathering and meet fellow makers\, have a brew and a chat.\nFrom expert to beginner. Everyone is welcome
URL:https://www.onestockport.co.uk/townofcultureevent/crochet-knit-and-craft-high-lane-library/2026-07-28/
LOCATION:High Lane Library Buxton Road High Lane Stockport SK6 8DX
CATEGORIES:Makes
ATTACH;FMTTYPE=image/png:https://www.onestockport.co.uk/wp-content/uploads/2023/10/Crochet-and-knit1.png
END:VEVENT
BEGIN:VEVENT
DTSTART;TZID=Europe/London:20260804T150000
DTEND;TZID=Europe/London:20260804T160000
DTSTAMP:20260424T201618
CREATED:20231024T140916Z
LAST-MODIFIED:20231024T140916Z
UID:10002007-1785855600-1785859200@www.onestockport.co.uk
SUMMARY:Crochet\, knit and craft @ High Lane Library
DESCRIPTION:Bring along your knitting\, crochet or craft to this free drop-in.\nJoin our casual gathering and meet fellow makers\, have a brew and a chat.\nFrom expert to beginner. Everyone is welcome
URL:https://www.onestockport.co.uk/townofcultureevent/crochet-knit-and-craft-high-lane-library/2026-08-04/
LOCATION:High Lane Library Buxton Road High Lane Stockport SK6 8DX
CATEGORIES:Makes
ATTACH;FMTTYPE=image/png:https://www.onestockport.co.uk/wp-content/uploads/2023/10/Crochet-and-knit1.png
END:VEVENT
BEGIN:VEVENT
DTSTART;TZID=Europe/London:20260811T150000
DTEND;TZID=Europe/London:20260811T160000
DTSTAMP:20260424T201618
CREATED:20231024T140916Z
LAST-MODIFIED:20231024T140916Z
UID:10002008-1786460400-1786464000@www.onestockport.co.uk
SUMMARY:Crochet\, knit and craft @ High Lane Library
DESCRIPTION:Bring along your knitting\, crochet or craft to this free drop-in.\nJoin our casual gathering and meet fellow makers\, have a brew and a chat.\nFrom expert to beginner. Everyone is welcome
URL:https://www.onestockport.co.uk/townofcultureevent/crochet-knit-and-craft-high-lane-library/2026-08-11/
LOCATION:High Lane Library Buxton Road High Lane Stockport SK6 8DX
CATEGORIES:Makes
ATTACH;FMTTYPE=image/png:https://www.onestockport.co.uk/wp-content/uploads/2023/10/Crochet-and-knit1.png
END:VEVENT
BEGIN:VEVENT
DTSTART;TZID=Europe/London:20260818T150000
DTEND;TZID=Europe/London:20260818T160000
DTSTAMP:20260424T201618
CREATED:20231024T140916Z
LAST-MODIFIED:20231024T140916Z
UID:10002009-1787065200-1787068800@www.onestockport.co.uk
SUMMARY:Crochet\, knit and craft @ High Lane Library
DESCRIPTION:Bring along your knitting\, crochet or craft to this free drop-in.\nJoin our casual gathering and meet fellow makers\, have a brew and a chat.\nFrom expert to beginner. Everyone is welcome
URL:https://www.onestockport.co.uk/townofcultureevent/crochet-knit-and-craft-high-lane-library/2026-08-18/
LOCATION:High Lane Library Buxton Road High Lane Stockport SK6 8DX
CATEGORIES:Makes
ATTACH;FMTTYPE=image/png:https://www.onestockport.co.uk/wp-content/uploads/2023/10/Crochet-and-knit1.png
END:VEVENT
BEGIN:VEVENT
DTSTART;TZID=Europe/London:20260825T150000
DTEND;TZID=Europe/London:20260825T160000
DTSTAMP:20260424T201618
CREATED:20231024T140916Z
LAST-MODIFIED:20231024T140916Z
UID:10002010-1787670000-1787673600@www.onestockport.co.uk
SUMMARY:Crochet\, knit and craft @ High Lane Library
DESCRIPTION:Bring along your knitting\, crochet or craft to this free drop-in.\nJoin our casual gathering and meet fellow makers\, have a brew and a chat.\nFrom expert to beginner. Everyone is welcome
URL:https://www.onestockport.co.uk/townofcultureevent/crochet-knit-and-craft-high-lane-library/2026-08-25/
LOCATION:High Lane Library Buxton Road High Lane Stockport SK6 8DX
CATEGORIES:Makes
ATTACH;FMTTYPE=image/png:https://www.onestockport.co.uk/wp-content/uploads/2023/10/Crochet-and-knit1.png
END:VEVENT
BEGIN:VEVENT
DTSTART;TZID=Europe/London:20260901T150000
DTEND;TZID=Europe/London:20260901T160000
DTSTAMP:20260424T201618
CREATED:20231024T140916Z
LAST-MODIFIED:20231024T140916Z
UID:10002011-1788274800-1788278400@www.onestockport.co.uk
SUMMARY:Crochet\, knit and craft @ High Lane Library
DESCRIPTION:Bring along your knitting\, crochet or craft to this free drop-in.\nJoin our casual gathering and meet fellow makers\, have a brew and a chat.\nFrom expert to beginner. Everyone is welcome
URL:https://www.onestockport.co.uk/townofcultureevent/crochet-knit-and-craft-high-lane-library/2026-09-01/
LOCATION:High Lane Library Buxton Road High Lane Stockport SK6 8DX
CATEGORIES:Makes
ATTACH;FMTTYPE=image/png:https://www.onestockport.co.uk/wp-content/uploads/2023/10/Crochet-and-knit1.png
END:VEVENT
BEGIN:VEVENT
DTSTART;TZID=Europe/London:20260908T150000
DTEND;TZID=Europe/London:20260908T160000
DTSTAMP:20260424T201618
CREATED:20231024T140916Z
LAST-MODIFIED:20231024T140916Z
UID:10002012-1788879600-1788883200@www.onestockport.co.uk
SUMMARY:Crochet\, knit and craft @ High Lane Library
DESCRIPTION:Bring along your knitting\, crochet or craft to this free drop-in.\nJoin our casual gathering and meet fellow makers\, have a brew and a chat.\nFrom expert to beginner. Everyone is welcome
URL:https://www.onestockport.co.uk/townofcultureevent/crochet-knit-and-craft-high-lane-library/2026-09-08/
LOCATION:High Lane Library Buxton Road High Lane Stockport SK6 8DX
CATEGORIES:Makes
ATTACH;FMTTYPE=image/png:https://www.onestockport.co.uk/wp-content/uploads/2023/10/Crochet-and-knit1.png
END:VEVENT
BEGIN:VEVENT
DTSTART;TZID=Europe/London:20260915T150000
DTEND;TZID=Europe/London:20260915T160000
DTSTAMP:20260424T201618
CREATED:20231024T140916Z
LAST-MODIFIED:20231024T140916Z
UID:10002013-1789484400-1789488000@www.onestockport.co.uk
SUMMARY:Crochet\, knit and craft @ High Lane Library
DESCRIPTION:Bring along your knitting\, crochet or craft to this free drop-in.\nJoin our casual gathering and meet fellow makers\, have a brew and a chat.\nFrom expert to beginner. Everyone is welcome
URL:https://www.onestockport.co.uk/townofcultureevent/crochet-knit-and-craft-high-lane-library/2026-09-15/
LOCATION:High Lane Library Buxton Road High Lane Stockport SK6 8DX
CATEGORIES:Makes
ATTACH;FMTTYPE=image/png:https://www.onestockport.co.uk/wp-content/uploads/2023/10/Crochet-and-knit1.png
END:VEVENT
BEGIN:VEVENT
DTSTART;TZID=Europe/London:20260922T150000
DTEND;TZID=Europe/London:20260922T160000
DTSTAMP:20260424T201618
CREATED:20231024T140916Z
LAST-MODIFIED:20231024T140916Z
UID:10002014-1790089200-1790092800@www.onestockport.co.uk
SUMMARY:Crochet\, knit and craft @ High Lane Library
DESCRIPTION:Bring along your knitting\, crochet or craft to this free drop-in.\nJoin our casual gathering and meet fellow makers\, have a brew and a chat.\nFrom expert to beginner. Everyone is welcome
URL:https://www.onestockport.co.uk/townofcultureevent/crochet-knit-and-craft-high-lane-library/2026-09-22/
LOCATION:High Lane Library Buxton Road High Lane Stockport SK6 8DX
CATEGORIES:Makes
ATTACH;FMTTYPE=image/png:https://www.onestockport.co.uk/wp-content/uploads/2023/10/Crochet-and-knit1.png
END:VEVENT
BEGIN:VEVENT
DTSTART;TZID=Europe/London:20260929T150000
DTEND;TZID=Europe/London:20260929T160000
DTSTAMP:20260424T201618
CREATED:20231024T140916Z
LAST-MODIFIED:20231024T140916Z
UID:10002015-1790694000-1790697600@www.onestockport.co.uk
SUMMARY:Crochet\, knit and craft @ High Lane Library
DESCRIPTION:Bring along your knitting\, crochet or craft to this free drop-in.\nJoin our casual gathering and meet fellow makers\, have a brew and a chat.\nFrom expert to beginner. Everyone is welcome
URL:https://www.onestockport.co.uk/townofcultureevent/crochet-knit-and-craft-high-lane-library/2026-09-29/
LOCATION:High Lane Library Buxton Road High Lane Stockport SK6 8DX
CATEGORIES:Makes
ATTACH;FMTTYPE=image/png:https://www.onestockport.co.uk/wp-content/uploads/2023/10/Crochet-and-knit1.png
END:VEVENT
BEGIN:VEVENT
DTSTART;TZID=Europe/London:20261006T150000
DTEND;TZID=Europe/London:20261006T160000
DTSTAMP:20260424T201618
CREATED:20231024T140916Z
LAST-MODIFIED:20231024T140916Z
UID:10002016-1791298800-1791302400@www.onestockport.co.uk
SUMMARY:Crochet\, knit and craft @ High Lane Library
DESCRIPTION:Bring along your knitting\, crochet or craft to this free drop-in.\nJoin our casual gathering and meet fellow makers\, have a brew and a chat.\nFrom expert to beginner. Everyone is welcome
URL:https://www.onestockport.co.uk/townofcultureevent/crochet-knit-and-craft-high-lane-library/2026-10-06/
LOCATION:High Lane Library Buxton Road High Lane Stockport SK6 8DX
CATEGORIES:Makes
ATTACH;FMTTYPE=image/png:https://www.onestockport.co.uk/wp-content/uploads/2023/10/Crochet-and-knit1.png
END:VEVENT
BEGIN:VEVENT
DTSTART;TZID=Europe/London:20261013T150000
DTEND;TZID=Europe/London:20261013T160000
DTSTAMP:20260424T201618
CREATED:20231024T140916Z
LAST-MODIFIED:20231024T140916Z
UID:10002017-1791903600-1791907200@www.onestockport.co.uk
SUMMARY:Crochet\, knit and craft @ High Lane Library
DESCRIPTION:Bring along your knitting\, crochet or craft to this free drop-in.\nJoin our casual gathering and meet fellow makers\, have a brew and a chat.\nFrom expert to beginner. Everyone is welcome
URL:https://www.onestockport.co.uk/townofcultureevent/crochet-knit-and-craft-high-lane-library/2026-10-13/
LOCATION:High Lane Library Buxton Road High Lane Stockport SK6 8DX
CATEGORIES:Makes
ATTACH;FMTTYPE=image/png:https://www.onestockport.co.uk/wp-content/uploads/2023/10/Crochet-and-knit1.png
END:VEVENT
BEGIN:VEVENT
DTSTART;TZID=Europe/London:20261020T150000
DTEND;TZID=Europe/London:20261020T160000
DTSTAMP:20260424T201618
CREATED:20231024T140916Z
LAST-MODIFIED:20231024T140916Z
UID:10002018-1792508400-1792512000@www.onestockport.co.uk
SUMMARY:Crochet\, knit and craft @ High Lane Library
DESCRIPTION:Bring along your knitting\, crochet or craft to this free drop-in.\nJoin our casual gathering and meet fellow makers\, have a brew and a chat.\nFrom expert to beginner. Everyone is welcome
URL:https://www.onestockport.co.uk/townofcultureevent/crochet-knit-and-craft-high-lane-library/2026-10-20/
LOCATION:High Lane Library Buxton Road High Lane Stockport SK6 8DX
CATEGORIES:Makes
ATTACH;FMTTYPE=image/png:https://www.onestockport.co.uk/wp-content/uploads/2023/10/Crochet-and-knit1.png
END:VEVENT
BEGIN:VEVENT
DTSTART;TZID=Europe/London:20261027T150000
DTEND;TZID=Europe/London:20261027T160000
DTSTAMP:20260424T201618
CREATED:20231024T140916Z
LAST-MODIFIED:20231024T140916Z
UID:10002019-1793113200-1793116800@www.onestockport.co.uk
SUMMARY:Crochet\, knit and craft @ High Lane Library
DESCRIPTION:Bring along your knitting\, crochet or craft to this free drop-in.\nJoin our casual gathering and meet fellow makers\, have a brew and a chat.\nFrom expert to beginner. Everyone is welcome
URL:https://www.onestockport.co.uk/townofcultureevent/crochet-knit-and-craft-high-lane-library/2026-10-27/
LOCATION:High Lane Library Buxton Road High Lane Stockport SK6 8DX
CATEGORIES:Makes
ATTACH;FMTTYPE=image/png:https://www.onestockport.co.uk/wp-content/uploads/2023/10/Crochet-and-knit1.png
END:VEVENT
BEGIN:VEVENT
DTSTART;TZID=Europe/London:20261103T150000
DTEND;TZID=Europe/London:20261103T160000
DTSTAMP:20260424T201618
CREATED:20231024T140916Z
LAST-MODIFIED:20231024T140916Z
UID:10002020-1793718000-1793721600@www.onestockport.co.uk
SUMMARY:Crochet\, knit and craft @ High Lane Library
DESCRIPTION:Bring along your knitting\, crochet or craft to this free drop-in.\nJoin our casual gathering and meet fellow makers\, have a brew and a chat.\nFrom expert to beginner. Everyone is welcome
URL:https://www.onestockport.co.uk/townofcultureevent/crochet-knit-and-craft-high-lane-library/2026-11-03/
LOCATION:High Lane Library Buxton Road High Lane Stockport SK6 8DX
CATEGORIES:Makes
ATTACH;FMTTYPE=image/png:https://www.onestockport.co.uk/wp-content/uploads/2023/10/Crochet-and-knit1.png
END:VEVENT
BEGIN:VEVENT
DTSTART;TZID=Europe/London:20261110T150000
DTEND;TZID=Europe/London:20261110T160000
DTSTAMP:20260424T201618
CREATED:20231024T140916Z
LAST-MODIFIED:20231024T140916Z
UID:10002021-1794322800-1794326400@www.onestockport.co.uk
SUMMARY:Crochet\, knit and craft @ High Lane Library
DESCRIPTION:Bring along your knitting\, crochet or craft to this free drop-in.\nJoin our casual gathering and meet fellow makers\, have a brew and a chat.\nFrom expert to beginner. Everyone is welcome
URL:https://www.onestockport.co.uk/townofcultureevent/crochet-knit-and-craft-high-lane-library/2026-11-10/
LOCATION:High Lane Library Buxton Road High Lane Stockport SK6 8DX
CATEGORIES:Makes
ATTACH;FMTTYPE=image/png:https://www.onestockport.co.uk/wp-content/uploads/2023/10/Crochet-and-knit1.png
END:VEVENT
BEGIN:VEVENT
DTSTART;TZID=Europe/London:20261117T150000
DTEND;TZID=Europe/London:20261117T160000
DTSTAMP:20260424T201618
CREATED:20231024T140916Z
LAST-MODIFIED:20231024T140916Z
UID:10002022-1794927600-1794931200@www.onestockport.co.uk
SUMMARY:Crochet\, knit and craft @ High Lane Library
DESCRIPTION:Bring along your knitting\, crochet or craft to this free drop-in.\nJoin our casual gathering and meet fellow makers\, have a brew and a chat.\nFrom expert to beginner. Everyone is welcome
URL:https://www.onestockport.co.uk/townofcultureevent/crochet-knit-and-craft-high-lane-library/2026-11-17/
LOCATION:High Lane Library Buxton Road High Lane Stockport SK6 8DX
CATEGORIES:Makes
ATTACH;FMTTYPE=image/png:https://www.onestockport.co.uk/wp-content/uploads/2023/10/Crochet-and-knit1.png
END:VEVENT
END:VCALENDAR