BEGIN:VCALENDAR
VERSION:2.0
PRODID:-//One Stockport - ECPv6.15.18//NONSGML v1.0//EN
CALSCALE:GREGORIAN
METHOD:PUBLISH
X-WR-CALNAME:One Stockport
X-ORIGINAL-URL:https://www.onestockport.co.uk
X-WR-CALDESC:Events for One Stockport
REFRESH-INTERVAL;VALUE=DURATION:PT1H
X-Robots-Tag:noindex
X-PUBLISHED-TTL:PT1H
BEGIN:VTIMEZONE
TZID:Europe/London
BEGIN:DAYLIGHT
TZOFFSETFROM:+0000
TZOFFSETTO:+0100
TZNAME:BST
DTSTART:20220327T010000
END:DAYLIGHT
BEGIN:STANDARD
TZOFFSETFROM:+0100
TZOFFSETTO:+0000
TZNAME:GMT
DTSTART:20221030T010000
END:STANDARD
BEGIN:DAYLIGHT
TZOFFSETFROM:+0000
TZOFFSETTO:+0100
TZNAME:BST
DTSTART:20230326T010000
END:DAYLIGHT
BEGIN:STANDARD
TZOFFSETFROM:+0100
TZOFFSETTO:+0000
TZNAME:GMT
DTSTART:20231029T010000
END:STANDARD
BEGIN:DAYLIGHT
TZOFFSETFROM:+0000
TZOFFSETTO:+0100
TZNAME:BST
DTSTART:20240331T010000
END:DAYLIGHT
BEGIN:STANDARD
TZOFFSETFROM:+0100
TZOFFSETTO:+0000
TZNAME:GMT
DTSTART:20241027T010000
END:STANDARD
BEGIN:DAYLIGHT
TZOFFSETFROM:+0000
TZOFFSETTO:+0100
TZNAME:BST
DTSTART:20250330T010000
END:DAYLIGHT
BEGIN:STANDARD
TZOFFSETFROM:+0100
TZOFFSETTO:+0000
TZNAME:GMT
DTSTART:20251026T010000
END:STANDARD
END:VTIMEZONE
BEGIN:VEVENT
DTSTART;TZID=Europe/London:20240816T120000
DTEND;TZID=Europe/London:20240816T160000
DTSTAMP:20260425T004254
CREATED:20240807T093031Z
LAST-MODIFIED:20240807T093031Z
UID:10007685-1723809600-1723824000@www.onestockport.co.uk
SUMMARY:The Community Medicine Festival
DESCRIPTION:Heaton Norris Community Centre presents the The Community Medicine Festival! \nYou’ll find Live Music\, Workshops\, Traditional Games\, Face painting\, Henna Tattoos and Positive Vibes at this lovely community event! \nThere will be Food available on the day. \nWheel Chair accessible.
URL:https://www.onestockport.co.uk/townofcultureevent/the-community-medicine-festival/
LOCATION:Heaton Norris Community Center\, Heaton Norris Park\, Love Lane\, Stockport\, Cheshire\, SK4 1JA\, United Kingdom
CATEGORIES:Moves,Sounds,Tastes
ATTACH;FMTTYPE=image/png:https://www.onestockport.co.uk/wp-content/uploads/2024/08/Community-festival-1.png
ORGANIZER;CN="Heaton Norris Community Centre":MAILTO:Heatonshncc@gmail.com
END:VEVENT
BEGIN:VEVENT
DTSTART;TZID=Europe/London:20231018T110000
DTEND;TZID=Europe/London:20231018T130000
DTSTAMP:20260425T004254
CREATED:20231012T123049Z
LAST-MODIFIED:20231012T123049Z
UID:10000470-1697626800-1697634000@www.onestockport.co.uk
SUMMARY:Free Belly dancing workshop and Cultural cooking Demo!
DESCRIPTION:The community asked and we are delivering \, this is your chance to find out how to make Falafels at home \, with fresh cheap ingredients\, and not only do you get to sample the food \, but you also get to try out Belly Dancing \, an art form which is performed at many middle eastern celebration events\, this is your chance to find out more about different cultures and background of the people who live and work in Stockport and it’s all FREE \n  \nHere is a link to the Stockport Women and Girls Network – where you can find out more about our regular events \n  \nStockport Women and Girls’ Network – Make a Difference Community (makeadifferencegm.co.uk)
URL:https://www.onestockport.co.uk/townofcultureevent/free-belly-dancing-workshop-and-cultural-cooking-demo/
LOCATION:Heaton Norris Community Center\, Heaton Norris Park\, Love Lane\, Stockport\, Cheshire\, SK4 1JA\, United Kingdom
CATEGORIES:Makes
ATTACH;FMTTYPE=image/jpeg:https://www.onestockport.co.uk/wp-content/uploads/2023/10/cultural-cookig-demo-toc.jpg
END:VEVENT
END:VCALENDAR