BEGIN:VCALENDAR
VERSION:2.0
PRODID:-//One Stockport - ECPv6.15.18//NONSGML v1.0//EN
CALSCALE:GREGORIAN
METHOD:PUBLISH
X-WR-CALNAME:One Stockport
X-ORIGINAL-URL:https://www.onestockport.co.uk
X-WR-CALDESC:Events for One Stockport
REFRESH-INTERVAL;VALUE=DURATION:PT1H
X-Robots-Tag:noindex
X-PUBLISHED-TTL:PT1H
BEGIN:VTIMEZONE
TZID:Europe/London
BEGIN:DAYLIGHT
TZOFFSETFROM:+0000
TZOFFSETTO:+0100
TZNAME:BST
DTSTART:20230326T010000
END:DAYLIGHT
BEGIN:STANDARD
TZOFFSETFROM:+0100
TZOFFSETTO:+0000
TZNAME:GMT
DTSTART:20231029T010000
END:STANDARD
BEGIN:DAYLIGHT
TZOFFSETFROM:+0000
TZOFFSETTO:+0100
TZNAME:BST
DTSTART:20240331T010000
END:DAYLIGHT
BEGIN:STANDARD
TZOFFSETFROM:+0100
TZOFFSETTO:+0000
TZNAME:GMT
DTSTART:20241027T010000
END:STANDARD
BEGIN:DAYLIGHT
TZOFFSETFROM:+0000
TZOFFSETTO:+0100
TZNAME:BST
DTSTART:20250330T010000
END:DAYLIGHT
BEGIN:STANDARD
TZOFFSETFROM:+0100
TZOFFSETTO:+0000
TZNAME:GMT
DTSTART:20251026T010000
END:STANDARD
END:VTIMEZONE
BEGIN:VEVENT
DTSTART;TZID=Europe/London:20241129T200000
DTEND;TZID=Europe/London:20241129T220000
DTSTAMP:20260424T205604
CREATED:20240815T124603Z
LAST-MODIFIED:20240816T142838Z
UID:10007704-1732910400-1732917600@www.onestockport.co.uk
SUMMARY:Manford's Comedy Club - November
DESCRIPTION:We bring award-winning live stand-up comedy to Cheadle! \nEvery show has a different line-up of four top comedians\, all chosen by Jason Manford! \nFeaturing the best of the UK and International comedy circuit. \nLive at the Apollo… Mock the Week… 8 Out of 10 Cats… Roast Battle… \nRussell Howard’s Good News… Have I Got News For You… and more! \nLine-up: IGNACIO LOPEZ – KATIE TRACEY – HOWARD ANSTOCK plus one more act to be announced \n*Please note that the artists appearing may occasionally be subject to change. \nPrice: £11 plus booking fee \nDoors Open 7pm for an 8pm Start
URL:https://www.onestockport.co.uk/townofcultureevent/manfords-comedy-club-november/
LOCATION:Cheadle Social Club\, Ashfield Crescent\, Cheadle\, SK8 1BQ\, United States
CATEGORIES:Sounds
ATTACH;FMTTYPE=image/png:https://www.onestockport.co.uk/wp-content/uploads/2024/08/Manford-Comedy-Club-1.png
END:VEVENT
BEGIN:VEVENT
DTSTART;TZID=Europe/London:20240927T200000
DTEND;TZID=Europe/London:20240927T220000
DTSTAMP:20260424T205604
CREATED:20240815T124321Z
LAST-MODIFIED:20240816T143016Z
UID:10007703-1727467200-1727474400@www.onestockport.co.uk
SUMMARY:Manford's Comedy Club - September
DESCRIPTION:We bring award-winning live stand-up comedy to Cheadle! \nEvery show has a different line-up of four top comedians\, all chosen by Jason Manford! \nFeaturing the best of the UK and International comedy circuit. \nLive at the Apollo… Mock the Week… 8 Out of 10 Cats… Roast Battle… \nRussell Howard’s Good News… Have I Got News For You… and more! \nLine-up: BARRY DODDS – CHARLIE LEWIS – FREDDY QUINNE – FAIZAN SHAH \n*Please note that the artists appearing may occasionally be subject to change. \nPrice: £11 plus booking fee \nDoors Open 7pm for an 8pm Start
URL:https://www.onestockport.co.uk/townofcultureevent/manfords-comedy-club-september/
LOCATION:Cheadle Social Club\, Ashfield Crescent\, Cheadle\, SK8 1BQ\, United States
CATEGORIES:Sounds
ATTACH;FMTTYPE=image/png:https://www.onestockport.co.uk/wp-content/uploads/2024/08/Manford-Comedy-Club-1.png
END:VEVENT
END:VCALENDAR