BEGIN:VCALENDAR
VERSION:2.0
PRODID:-//One Stockport - ECPv6.15.18//NONSGML v1.0//EN
CALSCALE:GREGORIAN
METHOD:PUBLISH
X-WR-CALNAME:One Stockport
X-ORIGINAL-URL:https://www.onestockport.co.uk
X-WR-CALDESC:Events for One Stockport
REFRESH-INTERVAL;VALUE=DURATION:PT1H
X-Robots-Tag:noindex
X-PUBLISHED-TTL:PT1H
BEGIN:VTIMEZONE
TZID:Europe/London
BEGIN:DAYLIGHT
TZOFFSETFROM:+0000
TZOFFSETTO:+0100
TZNAME:BST
DTSTART:20220327T010000
END:DAYLIGHT
BEGIN:STANDARD
TZOFFSETFROM:+0100
TZOFFSETTO:+0000
TZNAME:GMT
DTSTART:20221030T010000
END:STANDARD
BEGIN:DAYLIGHT
TZOFFSETFROM:+0000
TZOFFSETTO:+0100
TZNAME:BST
DTSTART:20230326T010000
END:DAYLIGHT
BEGIN:STANDARD
TZOFFSETFROM:+0100
TZOFFSETTO:+0000
TZNAME:GMT
DTSTART:20231029T010000
END:STANDARD
BEGIN:DAYLIGHT
TZOFFSETFROM:+0000
TZOFFSETTO:+0100
TZNAME:BST
DTSTART:20240331T010000
END:DAYLIGHT
BEGIN:STANDARD
TZOFFSETFROM:+0100
TZOFFSETTO:+0000
TZNAME:GMT
DTSTART:20241027T010000
END:STANDARD
BEGIN:DAYLIGHT
TZOFFSETFROM:+0000
TZOFFSETTO:+0100
TZNAME:BST
DTSTART:20250330T010000
END:DAYLIGHT
BEGIN:STANDARD
TZOFFSETFROM:+0100
TZOFFSETTO:+0000
TZNAME:GMT
DTSTART:20251026T010000
END:STANDARD
END:VTIMEZONE
BEGIN:VEVENT
DTSTART;TZID=Europe/London:20240706T103000
DTEND;TZID=Europe/London:20240706T143000
DTSTAMP:20260425T004219
CREATED:20240612T100714Z
LAST-MODIFIED:20240612T100714Z
UID:10006596-1720261800-1720276200@www.onestockport.co.uk
SUMMARY:This is Edgeley Community Day
DESCRIPTION:Join us for a fun day on Castle Street in Edgeley! \nLook out for Music\, Activities\, Health Advice and Entertainment! \nLocal Businesses will  be open along with the Olive Branch Gazebo Day
URL:https://www.onestockport.co.uk/townofcultureevent/this-is-edgeley-community-day/
LOCATION:Castle Street\, Edgeley\, Castle Street (Armoury End)\, Stockport\, Cheshire\, SK3 9AR\, United Kingdom
ATTACH;FMTTYPE=image/png:https://www.onestockport.co.uk/wp-content/uploads/2024/06/Edgeley-Day-6th-July_.png
END:VEVENT
BEGIN:VEVENT
DTSTART;TZID=Europe/London:20231125T110000
DTEND;TZID=Europe/London:20231125T150000
DTSTAMP:20260425T004219
CREATED:20231026T112854Z
LAST-MODIFIED:20231026T112854Z
UID:10002915-1700910000-1700924400@www.onestockport.co.uk
SUMMARY:Edgeley Festive Fun Day and Worker Bee Market
DESCRIPTION:Right in the centre of Edgeley\, on Castle Street\, there’s a free Fun Day with a Festive feel. Enjoy live music from Stockport’s Musical Theatre Choir\, face-painting\, a colouring competition and much more to keep the kids entertained. \nShop for Christmas from the 40+ talented\, local\, friendly traders. Pick up decorations\, unique and affordable gifts and foodie treats. Everything you need for the festive season. \nPlenty of parking and lots to do at this free event
URL:https://www.onestockport.co.uk/townofcultureevent/edgeley-festive-fun-day-and-worker-bee-market/
LOCATION:Castle Street\, Edgeley\, Castle Street (Armoury End)\, Stockport\, Cheshire\, SK3 9AR\, United Kingdom
CATEGORIES:Makes
ATTACH;FMTTYPE=image/jpeg:https://www.onestockport.co.uk/wp-content/uploads/2023/10/edgeley-worker-bee-market.jpg
END:VEVENT
END:VCALENDAR