BEGIN:VCALENDAR
VERSION:2.0
PRODID:-//One Stockport - ECPv6.15.18//NONSGML v1.0//EN
CALSCALE:GREGORIAN
METHOD:PUBLISH
X-WR-CALNAME:One Stockport
X-ORIGINAL-URL:https://www.onestockport.co.uk
X-WR-CALDESC:Events for One Stockport
REFRESH-INTERVAL;VALUE=DURATION:PT1H
X-Robots-Tag:noindex
X-PUBLISHED-TTL:PT1H
BEGIN:VTIMEZONE
TZID:Europe/London
BEGIN:DAYLIGHT
TZOFFSETFROM:+0000
TZOFFSETTO:+0100
TZNAME:BST
DTSTART:20230326T010000
END:DAYLIGHT
BEGIN:STANDARD
TZOFFSETFROM:+0100
TZOFFSETTO:+0000
TZNAME:GMT
DTSTART:20231029T010000
END:STANDARD
BEGIN:DAYLIGHT
TZOFFSETFROM:+0000
TZOFFSETTO:+0100
TZNAME:BST
DTSTART:20240331T010000
END:DAYLIGHT
BEGIN:STANDARD
TZOFFSETFROM:+0100
TZOFFSETTO:+0000
TZNAME:GMT
DTSTART:20241027T010000
END:STANDARD
BEGIN:DAYLIGHT
TZOFFSETFROM:+0000
TZOFFSETTO:+0100
TZNAME:BST
DTSTART:20250330T010000
END:DAYLIGHT
BEGIN:STANDARD
TZOFFSETFROM:+0100
TZOFFSETTO:+0000
TZNAME:GMT
DTSTART:20251026T010000
END:STANDARD
END:VTIMEZONE
BEGIN:VEVENT
DTSTART;TZID=Europe/London:20241214T120000
DTEND;TZID=Europe/London:20241214T140000
DTSTAMP:20260424T202657
CREATED:20241019T134100Z
LAST-MODIFIED:20241019T134100Z
UID:10009100-1734177600-1734184800@www.onestockport.co.uk
SUMMARY:Hush Hush at Bramhall Library
DESCRIPTION:Hush Hush is a relaxing and creative event for all ages\, offering a unique way to enjoy your local library and live electronic performances from local musicians. \nYou can: \n\nListen to live music through silent disco headphones\nRead a book\, draw\, or paint during the event (limited drawing paper and pens provided\, or bring your own)\n\nSip on soft drinks and tea while you unwind in a peaceful environment\, surrounded by creativity and music.  Hush Hush brings together relaxation\, art\, and live performances from talented local artists in a serene library setting. \nBook your tickets now and experience the library in a whole new way! \nThere is a small charge of £2 a ticket to cover the cost of pens\, drawing paper etc. \nOther dates and venues are shown below:
URL:https://www.onestockport.co.uk/townofcultureevent/hush-hush-at-bramhall-library/
LOCATION:Bramhall Library\, 70 Bramhall Lane South\, Stockport\, Cheshire\, SK7 2DU\, United Kingdom
CATEGORIES:Makes,Sounds
ATTACH;FMTTYPE=image/png:https://www.onestockport.co.uk/wp-content/uploads/2024/10/Hush-Hust-Poster-1.png
END:VEVENT
BEGIN:VEVENT
DTSTART;TZID=Europe/London:20240202T103000
DTEND;TZID=Europe/London:20240202T113000
DTSTAMP:20260424T202657
CREATED:20240131T133247Z
LAST-MODIFIED:20240131T133247Z
UID:10004577-1706869800-1706873400@www.onestockport.co.uk
SUMMARY:Digital support drop-in at Bramhall Library
DESCRIPTION:Do you want to improve your digital skills? If so\, come along to our free digital drop-in at Bramhall library! \nOur digital support volunteers are available to help you get the most of your time online or assist you with your own device. \nThis support includes: \n\ngeneral PC use\nsetting up an email account\nnavigating the internet and Stockport Libraries online resources\n\nThere’s no need to book. Just turn up. \nOur libraries have: \n\nfree Wi-Fi\nbookable PCs\ndedicated computer areas\nlow cost printing\, scanning and photocopying
URL:https://www.onestockport.co.uk/townofcultureevent/digital-support-drop-in-at-bramhall-library/
LOCATION:Bramhall Library\, 70 Bramhall Lane South\, Stockport\, Cheshire\, SK7 2DU\, United Kingdom
CATEGORIES:Makes
ATTACH;FMTTYPE=image/png:https://www.onestockport.co.uk/wp-content/uploads/2024/01/Picture3.png
END:VEVENT
END:VCALENDAR