BEGIN:VCALENDAR
VERSION:2.0
PRODID:-//One Stockport - ECPv6.15.18//NONSGML v1.0//EN
CALSCALE:GREGORIAN
METHOD:PUBLISH
X-ORIGINAL-URL:https://www.onestockport.co.uk
X-WR-CALDESC:Events for One Stockport
REFRESH-INTERVAL;VALUE=DURATION:PT1H
X-Robots-Tag:noindex
X-PUBLISHED-TTL:PT1H
BEGIN:VTIMEZONE
TZID:Europe/London
BEGIN:DAYLIGHT
TZOFFSETFROM:+0000
TZOFFSETTO:+0100
TZNAME:BST
DTSTART:20220327T010000
END:DAYLIGHT
BEGIN:STANDARD
TZOFFSETFROM:+0100
TZOFFSETTO:+0000
TZNAME:GMT
DTSTART:20221030T010000
END:STANDARD
BEGIN:DAYLIGHT
TZOFFSETFROM:+0000
TZOFFSETTO:+0100
TZNAME:BST
DTSTART:20230326T010000
END:DAYLIGHT
BEGIN:STANDARD
TZOFFSETFROM:+0100
TZOFFSETTO:+0000
TZNAME:GMT
DTSTART:20231029T010000
END:STANDARD
BEGIN:DAYLIGHT
TZOFFSETFROM:+0000
TZOFFSETTO:+0100
TZNAME:BST
DTSTART:20240331T010000
END:DAYLIGHT
BEGIN:STANDARD
TZOFFSETFROM:+0100
TZOFFSETTO:+0000
TZNAME:GMT
DTSTART:20241027T010000
END:STANDARD
END:VTIMEZONE
BEGIN:VEVENT
DTSTART;VALUE=DATE:20231015
DTEND;VALUE=DATE:20231016
DTSTAMP:20260425T004414
CREATED:20231010T135736Z
LAST-MODIFIED:20231016T075913Z
UID:10000466-1697356800-1697389200@www.onestockport.co.uk
SUMMARY:The Witch's Potion Trail
DESCRIPTION:This is a spooktacular spotting trail within the Hall. Batilda the resident witch fell from her broom\, scattering ingredients in every room! Find them all\, get them right\, to make a potion for Halloween night! There is a small prize if you find all the ingredients and you might even get to meet Batilda\, our slightly scary witch!
URL:https://www.onestockport.co.uk/townofcultureevent/the-witchs-potion-trail/2023-10-15/2/
LOCATION:Bramall Hall\, Bramhall\, Stockport
CATEGORIES:Moves
ATTACH;FMTTYPE=image/jpeg:https://www.onestockport.co.uk/wp-content/uploads/2023/10/Witches-potion-trail.jpg
END:VEVENT
BEGIN:VEVENT
DTSTART;VALUE=DATE:20231015
DTEND;VALUE=DATE:20231030
DTSTAMP:20260425T004414
CREATED:20231010T135736Z
LAST-MODIFIED:20231016T075913Z
UID:10000465-1697328000-1698623999@www.onestockport.co.uk
SUMMARY:The Witch's Potion Trail
DESCRIPTION:This is a spooktacular spotting trail within the Hall. Batilda the resident witch fell from her broom\, scattering ingredients in every room! Find them all\, get them right\, to make a potion for Halloween night! There is a small prize if you find all the ingredients and you might even get to meet Batilda\, our slightly scary witch!
URL:https://www.onestockport.co.uk/townofcultureevent/the-witchs-potion-trail/2023-10-15/1/
LOCATION:Bramall Hall\, Bramhall\, Stockport
CATEGORIES:Moves
ATTACH;FMTTYPE=image/jpeg:https://www.onestockport.co.uk/wp-content/uploads/2023/10/Witches-potion-trail.jpg
END:VEVENT
BEGIN:VEVENT
DTSTART;TZID=Europe/London:20230910T110000
DTEND;TZID=Europe/London:20230910T154500
DTSTAMP:20260425T004414
CREATED:20230905T083814Z
LAST-MODIFIED:20230905T102000Z
UID:10000284-1694343600-1694360700@www.onestockport.co.uk
SUMMARY:Explore Bramall Hall
DESCRIPTION:Learn more about the lives of people who lived and worked at Bramall Hall and take in some exceptional architectural features. \nFREE ENTRY – Self-guided Visits \nExplore Bramall Hall\, one of England’s finest timber-framed manor houses. Learn more about the lives of people who lived and worked at the Hall and take in some exceptional architectural features. Don’t miss the Solar and the Hall’s sensational suite of Tudor wall paintings\, they are of international importance and there is nothing quite like them in England. \nYou can also try your hand at the favourite Victorian leisure activity – Brass Rubbing in our banqueting room thanks to the Friends of Bramall Hall. Suitable for all ages. \nFREE – Booking Essential. Tickets are available from our online box office Art Tickets:  https://stockport-museums.arttickets.org.uk/
URL:https://www.onestockport.co.uk/townofcultureevent/explore-bramall-hall/2023-09-10/
LOCATION:Bramall Hall\, Bramhall\, Stockport
CATEGORIES:Makes
ATTACH;FMTTYPE=image/webp:https://www.onestockport.co.uk/wp-content/uploads/2023/07/Bramall-Hall.webp
END:VEVENT
BEGIN:VEVENT
DTSTART;TZID=Europe/London:20230908T110000
DTEND;TZID=Europe/London:20230908T154500
DTSTAMP:20260425T004414
CREATED:20230905T083814Z
LAST-MODIFIED:20230905T102000Z
UID:10000271-1694170800-1694187900@www.onestockport.co.uk
SUMMARY:Explore Bramall Hall
DESCRIPTION:Learn more about the lives of people who lived and worked at Bramall Hall and take in some exceptional architectural features. \nFREE ENTRY – Self-guided Visits \nExplore Bramall Hall\, one of England’s finest timber-framed manor houses. Learn more about the lives of people who lived and worked at the Hall and take in some exceptional architectural features. Don’t miss the Solar and the Hall’s sensational suite of Tudor wall paintings\, they are of international importance and there is nothing quite like them in England. \nYou can also try your hand at the favourite Victorian leisure activity – Brass Rubbing in our banqueting room thanks to the Friends of Bramall Hall. Suitable for all ages. \nFREE – Booking Essential. Tickets are available from our online box office Art Tickets:  https://stockport-museums.arttickets.org.uk/
URL:https://www.onestockport.co.uk/townofcultureevent/explore-bramall-hall/2023-09-08/
LOCATION:Bramall Hall\, Bramhall\, Stockport
CATEGORIES:Makes
ATTACH;FMTTYPE=image/webp:https://www.onestockport.co.uk/wp-content/uploads/2023/07/Bramall-Hall.webp
END:VEVENT
END:VCALENDAR