BEGIN:VCALENDAR
VERSION:2.0
PRODID:-//One Stockport - ECPv6.15.18//NONSGML v1.0//EN
CALSCALE:GREGORIAN
METHOD:PUBLISH
X-ORIGINAL-URL:https://www.onestockport.co.uk
X-WR-CALDESC:Events for One Stockport
REFRESH-INTERVAL;VALUE=DURATION:PT1H
X-Robots-Tag:noindex
X-PUBLISHED-TTL:PT1H
BEGIN:VTIMEZONE
TZID:Europe/London
BEGIN:DAYLIGHT
TZOFFSETFROM:+0000
TZOFFSETTO:+0100
TZNAME:BST
DTSTART:20220327T010000
END:DAYLIGHT
BEGIN:STANDARD
TZOFFSETFROM:+0100
TZOFFSETTO:+0000
TZNAME:GMT
DTSTART:20221030T010000
END:STANDARD
BEGIN:DAYLIGHT
TZOFFSETFROM:+0000
TZOFFSETTO:+0100
TZNAME:BST
DTSTART:20230326T010000
END:DAYLIGHT
BEGIN:STANDARD
TZOFFSETFROM:+0100
TZOFFSETTO:+0000
TZNAME:GMT
DTSTART:20231029T010000
END:STANDARD
BEGIN:DAYLIGHT
TZOFFSETFROM:+0000
TZOFFSETTO:+0100
TZNAME:BST
DTSTART:20240331T010000
END:DAYLIGHT
BEGIN:STANDARD
TZOFFSETFROM:+0100
TZOFFSETTO:+0000
TZNAME:GMT
DTSTART:20241027T010000
END:STANDARD
END:VTIMEZONE
BEGIN:VEVENT
DTSTART;TZID=Europe/London:20231021T110000
DTEND;TZID=Europe/London:20231021T170000
DTSTAMP:20260425T003051
CREATED:20231013T095427Z
LAST-MODIFIED:20231013T095427Z
UID:10000473-1697886000-1697907600@www.onestockport.co.uk
SUMMARY:Positive Arts Exhibition
DESCRIPTION:Members of Positive Arts are holding their annual exhibition.\nCome along and meet the artists behind the fantastic work \nThere will be lots of amazing handmade arts\, crafts and jewellery for sale! \nEntry is free!
URL:https://www.onestockport.co.uk/townofcultureevent/positive-arts-exhibition/2023-10-21/
LOCATION:Adswood Community Centre\, Garners Lane\, SK3 8QJ
CATEGORIES:Makes
ATTACH;FMTTYPE=image/jpeg:https://www.onestockport.co.uk/wp-content/uploads/2023/10/Positive-arts-exhibition.jpg
END:VEVENT
BEGIN:VEVENT
DTSTART;TZID=Europe/London:20231020T110000
DTEND;TZID=Europe/London:20231020T163000
DTSTAMP:20260425T003051
CREATED:20231013T095427Z
LAST-MODIFIED:20231013T095427Z
UID:10000472-1697799600-1697819400@www.onestockport.co.uk
SUMMARY:Positive Arts Exhibition
DESCRIPTION:Members of Positive Arts are holding their annual exhibition.\nCome along and meet the artists behind the fantastic work \nThere will be lots of amazing handmade arts\, crafts and jewellery for sale! \nEntry is free!
URL:https://www.onestockport.co.uk/townofcultureevent/positive-arts-exhibition/2023-10-20/
LOCATION:Adswood Community Centre\, Garners Lane\, SK3 8QJ
CATEGORIES:Makes
ATTACH;FMTTYPE=image/jpeg:https://www.onestockport.co.uk/wp-content/uploads/2023/10/Positive-arts-exhibition.jpg
END:VEVENT
BEGIN:VEVENT
DTSTART;TZID=Europe/London:20231019T110000
DTEND;TZID=Europe/London:20231019T170000
DTSTAMP:20260425T003051
CREATED:20231013T095427Z
LAST-MODIFIED:20231013T095427Z
UID:10000471-1697713200-1697734800@www.onestockport.co.uk
SUMMARY:Positive Arts Exhibition
DESCRIPTION:Members of Positive Arts are holding their annual exhibition.\nCome along and meet the artists behind the fantastic work \nThere will be lots of amazing handmade arts\, crafts and jewellery for sale! \nEntry is free!
URL:https://www.onestockport.co.uk/townofcultureevent/positive-arts-exhibition/2023-10-19/
LOCATION:Adswood Community Centre\, Garners Lane\, SK3 8QJ
CATEGORIES:Makes
ATTACH;FMTTYPE=image/jpeg:https://www.onestockport.co.uk/wp-content/uploads/2023/10/Positive-arts-exhibition.jpg
END:VEVENT
END:VCALENDAR