BEGIN:VCALENDAR
VERSION:2.0
PRODID:-//One Stockport - ECPv6.15.18//NONSGML v1.0//EN
CALSCALE:GREGORIAN
METHOD:PUBLISH
X-WR-CALNAME:One Stockport
X-ORIGINAL-URL:https://www.onestockport.co.uk
X-WR-CALDESC:Events for One Stockport
REFRESH-INTERVAL;VALUE=DURATION:PT1H
X-Robots-Tag:noindex
X-PUBLISHED-TTL:PT1H
BEGIN:VTIMEZONE
TZID:Europe/London
BEGIN:DAYLIGHT
TZOFFSETFROM:+0000
TZOFFSETTO:+0100
TZNAME:BST
DTSTART:20220327T010000
END:DAYLIGHT
BEGIN:STANDARD
TZOFFSETFROM:+0100
TZOFFSETTO:+0000
TZNAME:GMT
DTSTART:20221030T010000
END:STANDARD
BEGIN:DAYLIGHT
TZOFFSETFROM:+0000
TZOFFSETTO:+0100
TZNAME:BST
DTSTART:20230326T010000
END:DAYLIGHT
BEGIN:STANDARD
TZOFFSETFROM:+0100
TZOFFSETTO:+0000
TZNAME:GMT
DTSTART:20231029T010000
END:STANDARD
BEGIN:DAYLIGHT
TZOFFSETFROM:+0000
TZOFFSETTO:+0100
TZNAME:BST
DTSTART:20240331T010000
END:DAYLIGHT
BEGIN:STANDARD
TZOFFSETFROM:+0100
TZOFFSETTO:+0000
TZNAME:GMT
DTSTART:20241027T010000
END:STANDARD
END:VTIMEZONE
BEGIN:VEVENT
DTSTART;TZID=Europe/London:20230909T170000
DTEND;TZID=Europe/London:20230909T183000
DTSTAMP:20260424T222735
CREATED:20230905T104513Z
LAST-MODIFIED:20230905T105022Z
UID:10000338-1694278800-1694284200@www.onestockport.co.uk
SUMMARY:Stockport Gin Distillery Tours
DESCRIPTION:Distillery tours are held here in our town center distillery regularly on Fridays\, Saturdays\, and Sundays throughout the year. Tickets are £25 per person and for that guests get a welcome G&T on arrival which they can enjoy whilst learning all about the history of gin and the story behind us at Stockport Gin. They then get a 2nd G&T before heading on a guided tour of the distillery where they get to see behind the scenes of what we do and where. There are then tasters of our full range of gins to try before an open Q&A session at the end of the tour. Guests can then also benefit from 10% off purchases of any of our 70cl bottles! Check our website for a full list of available dates and times and to book your space!
URL:https://www.onestockport.co.uk/townofcultureevent/stockport-gin-distillery-tours-3/
LOCATION:19B St Petersgate\, Stockport SK1 1EB
CATEGORIES:Tastes
ATTACH;FMTTYPE=image/jpeg:https://www.onestockport.co.uk/wp-content/uploads/2023/08/20230211_102906-scaled.jpg
END:VEVENT
BEGIN:VEVENT
DTSTART;TZID=Europe/London:20230909T140000
DTEND;TZID=Europe/London:20230909T153000
DTSTAMP:20260424T222735
CREATED:20230905T084855Z
LAST-MODIFIED:20230905T104443Z
UID:10000320-1694268000-1694273400@www.onestockport.co.uk
SUMMARY:Stockport Gin Distillery Tours
DESCRIPTION:Distillery tours are held here in our town center distillery regularly on Fridays\, Saturdays\, and Sundays throughout the year. Tickets are £25 per person and for that guests get a welcome G&T on arrival which they can enjoy whilst learning all about the history of gin and the story behind us at Stockport Gin. They then get a 2nd G&T before heading on a guided tour of the distillery where they get to see behind the scenes of what we do and where. There are then tasters of our full range of gins to try before an open Q&A session at the end of the tour. Guests can then also benefit from 10% off purchases of any of our 70cl bottles! Check our website for a full list of available dates and times and to book your space!
URL:https://www.onestockport.co.uk/townofcultureevent/stockport-gin-distillery-tours/
LOCATION:19B St Petersgate\, Stockport SK1 1EB
CATEGORIES:Tastes
ATTACH;FMTTYPE=image/jpeg:https://www.onestockport.co.uk/wp-content/uploads/2023/08/20230211_102906-scaled.jpg
END:VEVENT
BEGIN:VEVENT
DTSTART;TZID=Europe/London:20230908T183000
DTEND;TZID=Europe/London:20230908T200000
DTSTAMP:20260424T222735
CREATED:20230905T104216Z
LAST-MODIFIED:20230905T104407Z
UID:10000336-1694197800-1694203200@www.onestockport.co.uk
SUMMARY:Stockport Gin Distillery Tours
DESCRIPTION:Distillery tours are held here in our town center distillery regularly on Fridays\, Saturdays\, and Sundays throughout the year. Tickets are £25 per person and for that guests get a welcome G&T on arrival which they can enjoy whilst learning all about the history of gin and the story behind us at Stockport Gin. They then get a 2nd G&T before heading on a guided tour of the distillery where they get to see behind the scenes of what we do and where. There are then tasters of our full range of gins to try before an open Q&A session at the end of the tour. Guests can then also benefit from 10% off purchases of any of our 70cl bottles! Check our website for a full list of available dates and times and to book your space!
URL:https://www.onestockport.co.uk/townofcultureevent/stockport-gin-distillery-tours-2/
LOCATION:19B St Petersgate\, Stockport SK1 1EB
CATEGORIES:Tastes
ATTACH;FMTTYPE=image/jpeg:https://www.onestockport.co.uk/wp-content/uploads/2023/08/20230211_102906-scaled.jpg
END:VEVENT
BEGIN:VEVENT
DTSTART;TZID=Europe/London:20230906T183000
DTEND;TZID=Europe/London:20230906T203000
DTSTAMP:20260424T222735
CREATED:20230905T083039Z
LAST-MODIFIED:20230905T083302Z
UID:10000268-1694025000-1694032200@www.onestockport.co.uk
SUMMARY:GIN-YASA YOGA!
DESCRIPTION:Come and join us for an energising and uplifting flow\, to an upbeat playlist\, with our expert Vinyasa Yoga teacher Jennie. \nThis invigorating 45 minute Vinyasa Yoga class takes place in our gin distillery event space\, followed by a G&T at the bar – all included in the ticket price! \nThe class will be accessible to all abilities\, with variations throughout\, suitable for beginners and advanced yogi’s. \nJust bring your body\, your breath\, and a mat if you have one. (Some mats and props are available – please let us know when booking if you need to borrow so we know how many to bring along) \nWhether you come alone or with friends – you will be given the warmest of welcomes! \nTickets are £20 which includes the 45 minute Yoga class and a Gin & Tonic afterwards. Over 18’s only.
URL:https://www.onestockport.co.uk/townofcultureevent/gin-yasa-yoga/
LOCATION:19B St Petersgate\, Stockport SK1 1EB
CATEGORIES:Moves
ATTACH;FMTTYPE=image/png:https://www.onestockport.co.uk/wp-content/uploads/2023/08/GIN-YASA-YOGA-SEPT-23.png
END:VEVENT
END:VCALENDAR