BEGIN:VCALENDAR
VERSION:2.0
PRODID:-//One Stockport - ECPv6.15.18//NONSGML v1.0//EN
CALSCALE:GREGORIAN
METHOD:PUBLISH
X-WR-CALNAME:One Stockport
X-ORIGINAL-URL:https://www.onestockport.co.uk
X-WR-CALDESC:Events for One Stockport
REFRESH-INTERVAL;VALUE=DURATION:PT1H
X-Robots-Tag:noindex
X-PUBLISHED-TTL:PT1H
BEGIN:VTIMEZONE
TZID:Europe/London
BEGIN:DAYLIGHT
TZOFFSETFROM:+0000
TZOFFSETTO:+0100
TZNAME:BST
DTSTART:20230326T010000
END:DAYLIGHT
BEGIN:STANDARD
TZOFFSETFROM:+0100
TZOFFSETTO:+0000
TZNAME:GMT
DTSTART:20231029T010000
END:STANDARD
BEGIN:DAYLIGHT
TZOFFSETFROM:+0000
TZOFFSETTO:+0100
TZNAME:BST
DTSTART:20240331T010000
END:DAYLIGHT
BEGIN:STANDARD
TZOFFSETFROM:+0100
TZOFFSETTO:+0000
TZNAME:GMT
DTSTART:20241027T010000
END:STANDARD
BEGIN:DAYLIGHT
TZOFFSETFROM:+0000
TZOFFSETTO:+0100
TZNAME:BST
DTSTART:20250330T010000
END:DAYLIGHT
BEGIN:STANDARD
TZOFFSETFROM:+0100
TZOFFSETTO:+0000
TZNAME:GMT
DTSTART:20251026T010000
END:STANDARD
END:VTIMEZONE
BEGIN:VEVENT
DTSTART;TZID=Europe/London:20241205T193000
DTEND;TZID=Europe/London:20241205T213000
DTSTAMP:20260424T200418
CREATED:20241020T104837Z
LAST-MODIFIED:20241020T105009Z
UID:10009147-1733427000-1733434200@www.onestockport.co.uk
SUMMARY:The Lion the Witch and the Wardrobe
DESCRIPTION:The NKTA Drama Workshops are delighted to bring to life\, The Lion\, the Witch and the Wardrobe by Glyn Robbins. Adapted from the book by C.S. Lewis. \nThis amateur production of “The Lion\, the Witch and the Wardrobe (Robbins)” is presented by arrangement with Concord Theatricals Ltd. on behalf of Samuel French Ltd. \nTickets \n\n\nAdults £15.00 + booking fee*\nConcessions: £12.00 + booking fee*
URL:https://www.onestockport.co.uk/townofcultureevent/the-lion-the-witch-and-the-wardrobe/2024-12-05/
LOCATION:The Forum Theatre\, Compstall Road\, Romiley\, Cheshire\, SK6 4EA
CATEGORIES:Sounds
ATTACH;FMTTYPE=image/jpeg:https://www.onestockport.co.uk/wp-content/uploads/2024/10/LION-WW.jpg
END:VEVENT
BEGIN:VEVENT
DTSTART;TZID=Europe/London:20241204T193000
DTEND;TZID=Europe/London:20241204T213000
DTSTAMP:20260424T200418
CREATED:20241020T104837Z
LAST-MODIFIED:20241020T105009Z
UID:10009145-1733340600-1733347800@www.onestockport.co.uk
SUMMARY:The Lion the Witch and the Wardrobe
DESCRIPTION:The NKTA Drama Workshops are delighted to bring to life\, The Lion\, the Witch and the Wardrobe by Glyn Robbins. Adapted from the book by C.S. Lewis. \nThis amateur production of “The Lion\, the Witch and the Wardrobe (Robbins)” is presented by arrangement with Concord Theatricals Ltd. on behalf of Samuel French Ltd. \nTickets \n\n\nAdults £15.00 + booking fee*\nConcessions: £12.00 + booking fee*
URL:https://www.onestockport.co.uk/townofcultureevent/the-lion-the-witch-and-the-wardrobe/2024-12-04/
LOCATION:The Forum Theatre\, Compstall Road\, Romiley\, Cheshire\, SK6 4EA
CATEGORIES:Sounds
ATTACH;FMTTYPE=image/jpeg:https://www.onestockport.co.uk/wp-content/uploads/2024/10/LION-WW.jpg
END:VEVENT
BEGIN:VEVENT
DTSTART;TZID=Europe/London:20241130T193000
DTEND;TZID=Europe/London:20241130T213000
DTSTAMP:20260424T200418
CREATED:20241020T110230Z
LAST-MODIFIED:20241020T110230Z
UID:10009150-1732995000-1733002200@www.onestockport.co.uk
SUMMARY:NK Studio 2 Winter Showcase
DESCRIPTION:Join the members of NK Theatre Arts and Studio 2 Dance as they bring in the festive period with a fantastic winter showcase of Dance and Music! \nTickets: \n\n\n\n\nAdults  £15.00 + booking fee\n\n\n\n\n\n\nConcessions £12.00 + booking fee*
URL:https://www.onestockport.co.uk/townofcultureevent/nk-studio-2-winter-showcase/2024-11-30/
LOCATION:The Forum Theatre\, Compstall Road\, Romiley\, Cheshire\, SK6 4EA
CATEGORIES:Moves,Sounds
ATTACH;FMTTYPE=image/jpeg:https://www.onestockport.co.uk/wp-content/uploads/2024/10/Winter-S.jpg
END:VEVENT
BEGIN:VEVENT
DTSTART;TZID=Europe/London:20241129T193000
DTEND;TZID=Europe/London:20241129T213000
DTSTAMP:20260424T200418
CREATED:20241020T110230Z
LAST-MODIFIED:20241020T110230Z
UID:10009149-1732908600-1732915800@www.onestockport.co.uk
SUMMARY:NK Studio 2 Winter Showcase
DESCRIPTION:Join the members of NK Theatre Arts and Studio 2 Dance as they bring in the festive period with a fantastic winter showcase of Dance and Music! \nTickets: \n\n\n\n\nAdults  £15.00 + booking fee\n\n\n\n\n\n\nConcessions £12.00 + booking fee*
URL:https://www.onestockport.co.uk/townofcultureevent/nk-studio-2-winter-showcase/2024-11-29/
LOCATION:The Forum Theatre\, Compstall Road\, Romiley\, Cheshire\, SK6 4EA
CATEGORIES:Moves,Sounds
ATTACH;FMTTYPE=image/jpeg:https://www.onestockport.co.uk/wp-content/uploads/2024/10/Winter-S.jpg
END:VEVENT
END:VCALENDAR